{"text_format":"1","workbook":"xlsx","n_sheets":34,"sheets":["Задача 1","расч зад 1","результат 1","Задача 2","расч зад 2","результат 2","Задача 3","расч зад3","результат 3","Задача 4","расч зад4","результат4","Задача 5","расч зад 5","резул5","Задача 6","расч зад6","резул6","Задача 7","расч зад7","резул7","Задача 8","рас зад8","резул8","Задача 9","расч зад9","резул9","Задача 10","расч зад10","резул 10","Задача 11","расч зад 11","резул 11","Лист5"],"not_rendered":{"charts":0,"images":28,"macros":1,"external_links":0,"defined_names":0,"comments":13,"pivot_tables":0},"unopened":[],"bounds":{"document_bytes":16777216,"sheet_cells":100000,"rows_first":2000,"rows_last":500,"rows_between":2000,"halvings":0,"cell_chars":16384,"cell_head_chars":4096},"cells_cut":0,"cells_raw":0,"read":"whole","date_system":"1900"}

{"sheet":"Задача 1","index":0,"n_rows":17,"n_cols":21,"rows_kept":17,"cut":false,"hidden":false,"merged":[[12,0,12,3],[13,0,13,3],[14,0,14,3],[15,0,15,3],[16,0,16,3]]}
[]
["Название дискотеки","Цена билета днем, руб","Кол-во посетителей днем","Цена билета ночью, руб","Кол-во посетителей ночью","Выручка с продажи билетов днем, руб","Выручка с продажи билетов ночью, руб","Кол-во рабочих дней в месяце","Выручка с продажи билетов за месяц, руб","Зарплата обслуживающему персоналу, руб","Кол-во человек наемной охраны","Зарплата охранника в месяц, руб","Деньги на охрану, руб","Коммунальные услуги, руб","Затраты на бар, руб","Выручка с бара, руб","Прибыль с бара, руб","Затраты на рекламную кампанию, руб","Прибыль с дискотеки без учета налога, руб","Налог с прибыли дискотеки, руб ","Чистая прибыль, руб"]
["Триумф",140,150,250,100,null,null,25,null,1000000,8,6000,null,5000,90000,150000,null,5000]
["Д/к Газа",60,200,0,0,null,null,20,null,30000,8,4000,null,4000,10000,12500,null,1000]
["Манхеттен",0,0,100,350,null,null,20,null,50000,10,7000,null,7000,80000,100000,null,10000]
["Клео",0,0,70,200,null,null,15,null,80000,8,4500,null,5000,50000,75000,null,6000]
["Курьер",60,150,20,100,null,null,20,null,50000,7,4000,null,4000,50000,70000,null,1000]
["Роджер",120,250,0,0,null,null,20,null,50000,9,3500,null,3500,80000,90000,null,1000]
["Штрих",0,0,250,100,null,null,25,null,60000,10,6000,null,6000,80000,115000,null,2000]
["У лиса",0,0,300,340,null,null,15,null,1000000,16,7000,null,8000,100000,135000,null,6000]
["Star",0,0,200,150,null,null,15,null,30000,12,4000,null,5000,70000,90000,null,1000]
["Титаник",100,170,170,100,null,null,20,null,65000,8,3500,null,3500,80000,120000,null,1500]
["Максимальная стоимость билета днем, руб"]
["Максимальная стоимость билета ночью,  руб"]
["Средняя выручка билетов за сутки, руб"]
["Общая сумма налога всех дискотек, руб"]
["Наименьшая чистая прибыль, полученная одной из дискотек, руб"]

{"sheet":"расч зад 1","index":1,"n_rows":35,"n_cols":21,"rows_kept":35,"cut":false,"hidden":true,"merged":[[30,0,30,3],[31,0,31,3],[32,0,32,3],[33,0,33,3],[34,0,34,3],[12,0,12,3],[13,0,13,3],[14,0,14,3],[15,0,15,3],[16,0,16,3]]}
[]
["Название дискотеки","Цена билета днем, руб","Кол-во посетителей днем","Цена билета ночью, руб","Кол-во посетителей ночью","Выручка с продажи билетов днем, руб","Выручка с продажи билетов ночью, руб","Кол-во рабочих дней в месяце","Выручка с продажи билетов за месяц, руб","Зарплата обслуживающему персоналу, руб","Кол-во человек наемной охраны","Зарплата охранника в месяц, руб","Деньги на охрану, руб","Коммунальные услуги, руб","Затраты на бар, руб","Выручка с бара, руб","Прибыль с бара, руб","Затраты на рекламную кампанию, руб","Прибыль с дискотеки без учета налога, руб","Налог с прибыли дискотеки, руб  (13%)","Чистая прибыль, руб"]
["Триумф",140,150,250,100,{"$f":"B3*C3","v":21000},{"$f":"D3*E3","v":25000},25,{"$f":"(F3+G3)*H3","v":1150000},1000000,8,6000,{"$f":"K3*L3","v":48000},5000,90000,150000,{"$f":"P3-O3","v":60000},5000,{"$f":"I3-M3+Q3-J3-N3-R3","v":152000},{"$f":"S3*0.13","v":19760},{"$f":"S3-T3","v":132240}]
["Д/к Газа",60,200,0,0,{"$f":"B4*C4","v":12000},{"$f":"D4*E4","v":0},20,{"$f":"(F4+G4)*H4","v":240000},30000,8,4000,{"$f":"K4*L4","v":32000},4000,10000,12500,{"$f":"P4-O4","v":2500},1000,{"$f":"I4-M4+Q4-J4-N4-R4","v":175500},{"$f":"S4*0.13","v":22815},{"$f":"S4-T4","v":152685}]
["Манхеттен",0,0,100,350,0,35000,20,700000,50000,10,7000,70000,7000,80000,100000,20000,10000,583000,75790,507210]
["Клео",0,0,70,200,0,14000,15,210000,80000,8,4500,36000,5000,50000,75000,25000,6000,108000,14040,93960]
["Курьер",60,150,20,100,9000,2000,20,220000,50000,7,4000,28000,4000,50000,70000,20000,1000,157000,20410,136590]
["Роджер",120,250,0,0,30000,0,20,600000,50000,9,3500,31500,3500,80000,90000,10000,1000,524000,68120,455880]
["Штрих",0,0,250,100,0,25000,25,625000,60000,10,6000,60000,6000,80000,115000,35000,2000,532000,69160,462840]
["У лиса",0,0,300,340,0,102000,15,1530000,1000000,16,7000,112000,8000,100000,135000,35000,6000,439000,57070,381930]
["Star",0,0,200,150,0,30000,15,450000,30000,12,4000,48000,5000,70000,90000,20000,1000,386000,50180,335820]
["Титаник",100,170,170,100,17000,17000,20,680000,65000,8,3500,28000,3500,80000,120000,40000,1500,622000,80860,541140]
["Максимальная стоимость билета днем, руб",null,null,null,{"$f":"MAX(B3:B12)","v":140}]
["Максимальная стоимость билета ночью,  руб",null,null,null,{"$f":"MAX(D3:D12)","v":300}]
["Средняя выручка билетов за месяц,  руб",null,null,null,{"$f":"AVERAGE(I3:I12)","v":640500}]
["Общая сумма налога всех дискотек, руб",null,null,null,{"$f":"SUM(T3:T12)","v":478205}]
["Наименьшая чистая прибыль, полученная одной из дискотек, руб",null,null,null,{"$f":"MIN(U3:U12)","v":93960},null,null,null,null,"задача 1"]
["Выручка с продажи билетов днем, руб","Выручка с продажи билетов ночью, руб","Выручка с продажи билетов за месяц, руб","Деньги на охрану, руб","Прибыль с бара, руб","Прибыль с дискотеки без учета налога, руб","Налог с прибыли дискотеки, руб  (13%)","Чистая прибыль, руб"]
[{"$f":"IF(F3='Задача 1'!F3,1,0)","v":0},{"$f":"IF(G3='Задача 1'!G3,1,0)","v":0},{"$f":"IF(I3='Задача 1'!I3,1,0)","v":0},{"$f":"IF(M3='Задача 1'!M3,1,0)","v":0},{"$f":"IF(Q3='Задача 1'!Q3,1,0)","v":0},{"$f":"IF(S3='Задача 1'!S3,1,0)","v":0},{"$f":"IF(T3='Задача 1'!T3,1,0)","v":0},{"$f":"IF(U3='Задача 1'!U3,1,0)","v":0}]
[{"$f":"IF(F4='Задача 1'!F4,1,0)","v":0},null,{"$f":"IF(I4='Задача 1'!I4,1,0)","v":0},{"$f":"IF(M4='Задача 1'!M4,1,0)","v":0},{"$f":"IF(Q4='Задача 1'!Q4,1,0)","v":0},{"$f":"IF(S4='Задача 1'!S4,1,0)","v":0},{"$f":"IF(T4='Задача 1'!T4,1,0)","v":0},{"$f":"IF(U4='Задача 1'!U4,1,0)","v":0}]
[null,{"$f":"IF(G5='Задача 1'!G5,1,0)","v":0},{"$f":"IF(I5='Задача 1'!I5,1,0)","v":0},{"$f":"IF(M5='Задача 1'!M5,1,0)","v":0},{"$f":"IF(Q5='Задача 1'!Q5,1,0)","v":0},{"$f":"IF(S5='Задача 1'!S5,1,0)","v":0},{"$f":"IF(T5='Задача 1'!T5,1,0)","v":0},{"$f":"IF(U5='Задача 1'!U5,1,0)","v":0}]
[null,{"$f":"IF(G6='Задача 1'!G6,1,0)","v":0},{"$f":"IF(I6='Задача 1'!I6,1,0)","v":0},{"$f":"IF(M6='Задача 1'!M6,1,0)","v":0},{"$f":"IF(Q6='Задача 1'!Q6,1,0)","v":0},{"$f":"IF(S6='Задача 1'!S6,1,0)","v":0},{"$f":"IF(T6='Задача 1'!T6,1,0)","v":0},{"$f":"IF(U6='Задача 1'!U6,1,0)","v":0}]
[{"$f":"IF(F7='Задача 1'!F7,1,0)","v":0},{"$f":"IF(G7='Задача 1'!G7,1,0)","v":0},{"$f":"IF(I7='Задача 1'!I7,1,0)","v":0},{"$f":"IF(M7='Задача 1'!M7,1,0)","v":0},{"$f":"IF(Q7='Задача 1'!Q7,1,0)","v":0},{"$f":"IF(S7='Задача 1'!S7,1,0)","v":0},{"$f":"IF(T7='Задача 1'!T7,1,0)","v":0},{"$f":"IF(U7='Задача 1'!U7,1,0)","v":0}]
[{"$f":"IF(F8='Задача 1'!F8,1,0)","v":0},null,{"$f":"IF(I8='Задача 1'!I8,1,0)","v":0},{"$f":"IF(M8='Задача 1'!M8,1,0)","v":0},{"$f":"IF(Q8='Задача 1'!Q8,1,0)","v":0},{"$f":"IF(S8='Задача 1'!S8,1,0)","v":0},{"$f":"IF(T8='Задача 1'!T8,1,0)","v":0},{"$f":"IF(U8='Задача 1'!U8,1,0)","v":0}]
[null,{"$f":"IF(G9='Задача 1'!G9,1,0)","v":0},{"$f":"IF(I9='Задача 1'!I9,1,0)","v":0},{"$f":"IF(M9='Задача 1'!M9,1,0)","v":0},{"$f":"IF(Q9='Задача 1'!Q9,1,0)","v":0},{"$f":"IF(S9='Задача 1'!S9,1,0)","v":0},{"$f":"IF(T9='Задача 1'!T9,1,0)","v":0},{"$f":"IF(U9='Задача 1'!U9,1,0)","v":0}]
[null,{"$f":"IF(G10='Задача 1'!G10,1,0)","v":0},{"$f":"IF(I10='Задача 1'!I10,1,0)","v":0},{"$f":"IF(M10='Задача 1'!M10,1,0)","v":0},{"$f":"IF(Q10='Задача 1'!Q10,1,0)","v":0},{"$f":"IF(S10='Задача 1'!S10,1,0)","v":0},{"$f":"IF(T10='Задача 1'!T10,1,0)","v":0},{"$f":"IF(U10='Задача 1'!U10,1,0)","v":0}]
[null,{"$f":"IF(G11='Задача 1'!G11,1,0)","v":0},{"$f":"IF(I11='Задача 1'!I11,1,0)","v":0},{"$f":"IF(M11='Задача 1'!M11,1,0)","v":0},{"$f":"IF(Q11='Задача 1'!Q11,1,0)","v":0},{"$f":"IF(S11='Задача 1'!S11,1,0)","v":0},{"$f":"IF(T11='Задача 1'!T11,1,0)","v":0},{"$f":"IF(U11='Задача 1'!U11,1,0)","v":0}]
[{"$f":"IF(F12='Задача 1'!F12,1,0)","v":0},{"$f":"IF(G12='Задача 1'!G12,1,0)","v":0},{"$f":"IF(I12='Задача 1'!I12,1,0)","v":0},{"$f":"IF(M12='Задача 1'!M12,1,0)","v":0},{"$f":"IF(Q12='Задача 1'!Q12,1,0)","v":0},{"$f":"IF(S12='Задача 1'!S12,1,0)","v":0},{"$f":"IF(T12='Задача 1'!T12,1,0)","v":0},{"$f":"IF(U12='Задача 1'!U12,1,0)","v":0}]
[{"$f":"COUNTIF(A19:A28,1)","v":0},{"$f":"COUNTIF(B19:B28,1)","v":0},0,0,0,0,0,0]
[{"$f":"IF(A29<5,\"пересчитай\",\"верно\")","v":"пересчитай"},{"$f":"IF(B29<8,\"пересчитай\",\"верно\")","v":"пересчитай"},{"$f":"IF(C29<10,\"пересчитай\",\"верно\")","v":"пересчитай"},"пересчитай","пересчитай","пересчитай","пересчитай","пересчитай"]
["Максимальная стоимость билета днем, руб",null,null,null,{"$f":"IF(E13='Задача 1'!E13,1,0)","v":0},{"$f":"IF(E31=0,\"пересчитай\",\"верно\")","v":"пересчитай"}]
["Максимальная стоимость билета ночью,  руб",null,null,null,{"$f":"IF(E14='Задача 1'!E14,1,0)","v":0},{"$f":"IF(E32=0,\"пересчитай\",\"верно\")","v":"пересчитай"}]
["Средняя выручка билетов за месяц,  руб",null,null,null,{"$f":"IF(E15='Задача 1'!E15,1,0)","v":0},{"$f":"IF(E33=0,\"пересчитай\",\"верно\")","v":"пересчитай"}]
["Общая сумма налога всех дискотек, руб",null,null,null,{"$f":"IF(E16='Задача 1'!E16,1,0)","v":0},{"$f":"IF(E34=0,\"пересчитай\",\"верно\")","v":"пересчитай"}]
["Наименьшая чистая прибыль, полученная одной из дискотек, руб",null,null,null,{"$f":"IF(E17='Задача 1'!E17,1,0)","v":0},{"$f":"IF(E35=0,\"пересчитай\",\"верно\")","v":"пересчитай"}]

{"sheet":"результат 1","index":2,"n_rows":7,"n_cols":8,"rows_kept":7,"cut":false,"hidden":false,"merged":[[2,0,2,3],[3,0,3,3],[4,0,4,3],[5,0,5,3],[6,0,6,3]]}
["Выручка с продажи билетов днем, руб","Выручка с продажи билетов ночью, руб","Выручка с продажи билетов за месяц, руб","Деньги на охрану, руб","Прибыль с бара, руб","Прибыль с дискотеки без учета налога, руб","Налог с прибыли дискотеки, руб  (13%)","Чистая прибыль, руб"]
[{"$f":"REPT('расч зад 1'!A30,1)","v":"пересчитай"},{"$f":"REPT('расч зад 1'!B30,1)","v":"пересчитай"},{"$f":"REPT('расч зад 1'!C30,1)","v":"пересчитай"},{"$f":"REPT('расч зад 1'!D30,1)","v":"пересчитай"},{"$f":"REPT('расч зад 1'!E30,1)","v":"пересчитай"},{"$f":"REPT('расч зад 1'!F30,1)","v":"пересчитай"},{"$f":"REPT('расч зад 1'!G30,1)","v":"пересчитай"},{"$f":"REPT('расч зад 1'!H30,1)","v":"пересчитай"}]
["Максимальная стоимость билета днем, руб",null,null,null,{"$f":"REPT('расч зад 1'!F31,1)","v":"пересчитай"}]
["Максимальная стоимость билета ночью,  руб",null,null,null,{"$f":"REPT('расч зад 1'!F32,1)","v":"пересчитай"}]
["Средняя выручка билетов за месяц,  руб",null,null,null,{"$f":"REPT('расч зад 1'!F33,1)","v":"пересчитай"}]
["Общая сумма налога всех дискотек, руб",null,null,null,{"$f":"REPT('расч зад 1'!F34,1)","v":"пересчитай"}]
["Наименьшая чистая прибыль, полученная одной из дискотек, руб",null,null,null,{"$f":"REPT('расч зад 1'!F35,1)","v":"пересчитай"}]

{"sheet":"Задача 2","index":3,"n_rows":18,"n_cols":17,"rows_kept":18,"cut":false,"hidden":false,"merged":[[15,0,15,3],[16,0,16,3],[17,0,17,3],[9,0,9,3],[10,0,10,3],[11,0,11,3],[12,0,12,3],[13,0,13,3],[14,0,14,3]]}
[]
["Порядковый номер","Номер рейса","Модель самолета","Маршрут","Дата отправления","Время отправления, ч, мин","Цена билета для детей, руб","Цена билета для взрослых, руб","Разница во времени с Москвой в пункте назначения, ч","Скидка для пенсионеров, %","Цена билета для пенсионеров, руб","Время прибытия местное, ч, мин","Время полета, ч, мин","Погодные условия в пункте прибытия","Время задержки рейса, ч, мин","Причина задержки","Время стоянки для дозаправки, ч, мин"]
[1,3405,"ТУ-154","С.-Пб-Москва","2003-09-21","23:30:00",null,1500,0,5,null,null,"02:00:00","дождь, слякоть","01:00:00","погода","00:00:00"]
[2,8907,"ТУ-134","С.-Пб-Краснодар","2003-05-16","15:30:00",null,2250,0,5,null,null,"04:00:00","солнце, 26С","00:00:00",null,"00:00:00"]
[3,6412,"ИЛ-86","Москва-Сан-Франциско","2003-06-20","21:45:00",null,7500,12,7,null,null,"12:55:00","солнце, 40С","02:00:00","тех. пр.","01:30:00"]
[4,8100,"БОИНГ-747","Москва-Флорида","2003-07-30","00:30:00",null,8250,7,8,null,null,"08:00:00","дождь, 25С","00:00:00",null,"00:00:00"]
[5,1040,"А-310","С.-Пб-Акапулько","2003-03-17","12:00:00",null,9000,12,5,null,null,"13:30:00","тепло, 26С","00:00:00",null,"01:30:00"]
[6,8610,"ИЛ-62","Киев-Стамбул","2003-02-23","13:50:00",null,9450,0,4,null,null,"02:10:00","знойно, 42С","02:50:00","тех. пр.","00:00:00"]
[7,2203,"ТУ-204","Москва-Одесса-Майами","2003-01-15","16:30:00",null,10500,7,5.5,null,null,"11:30:00","жарко, 37С","00:00:00",null,"00:30:00"]
["Минимальная цена билета для детей, руб"]
["Максимальная цена билета для детей, руб"]
["Максимальная цена билета для взрослых, руб"]
["Минимальная цена билета для взрослых, руб"]
["Максимальная цена билета для пенсионеров, руб"]
["Минимальная цена билета для пенсионеров, руб"]
["Общее время задержек рейсов, ч, мин"]
["Средняя цена билетов для детей, руб"]
["Средняя цена билетов для взрослых руб"]

{"sheet":"расч зад 2","index":4,"n_rows":18,"n_cols":22,"rows_kept":18,"cut":false,"hidden":true,"merged":[[15,0,15,3],[16,0,16,3],[17,0,17,3],[9,0,9,3],[10,0,10,3],[11,0,11,3],[12,0,12,3],[13,0,13,3],[14,0,14,3]]}
[]
["Порядковый номер","Номер рейса","Модель самолета","Маршрут","Дата отправления","Время отправления, ч, мин","Цена билета для детей, руб","Цена билета для взрослых, руб","Разница во времени с Москвой в пункте назначения, ч","Скидка для пенсионеров, %","Цена билета для пенсионеров, руб","Время прибытия местное, ч, мин","Время полета, ч, мин","Погодные условия в пункте прибытия","Время задержки рейса, ч, мин","Причина задержки","Время стоянки для дозаправки, ч, мин",null,null,"Цена билета для детей, руб","Цена билета для пенсионеров, руб","Время прибытия местное, ч, мин"]
[1,3405,"ТУ-154","С.-Пб-Москва","2003-09-21","23:30:00",{"$f":"0.5*H3","v":750},1500,0,5,{"$f":"H3-H3*J3/100","v":1425},{"$f":"IF(F3+O3+M3+Q3+I3>24,F3+O3+M3+Q3+I3-24,F3+O3+M3+Q3+I3)","v":1.1041666666666665},"02:00:00","дождь, слякоть","01:00:00","погода","00:00:00","=",null,{"$f":"IF(G3='Задача 2'!G3,1,0)","v":0},{"$f":"IF(K3='Задача 2'!K3,1,0)","v":0},{"$f":"IF(L3='Задача 2'!L3,1,0)","v":0}]
[2,8907,"ТУ-134","С.-Пб-Краснодар","2003-05-16","15:30:00",{"$f":"0.5*H4","v":1125},2250,0,5,{"$f":"H4-H4*J4/100","v":2137.5},{"$f":"IF(F4+O4+M4+Q4+I4>24,F4+O4+M4+Q4+I4-24,F4+O4+M4+Q4+I4)","v":"19:30:00"},"04:00:00","солнце, 26С","00:00:00",null,"00:00:00",null,null,{"$f":"IF(G4='Задача 2'!G4,1,0)","v":0},{"$f":"IF(K4='Задача 2'!K4,1,0)","v":0},{"$f":"IF(L4='Задача 2'!L4,1,0)","v":0}]
[3,6412,"ИЛ-86","Москва-Сан-Франциско","2003-06-20","21:45:00",3750,7500,12,7,6975,13.590277777777779,"12:55:00","солнце, 40С","02:00:00","тех. пр.","01:30:00",null,null,{"$f":"IF(G5='Задача 2'!G5,1,0)","v":0},{"$f":"IF(K5='Задача 2'!K5,1,0)","v":0},{"$f":"IF(L5='Задача 2'!L5,1,0)","v":0}]
[4,8100,"БОИНГ-747","Москва-Флорида","2003-07-30","00:30:00",4125,8250,7,8,7590,7.354166666666667,"08:00:00","дождь, 25С","00:00:00",null,"00:00:00",null,null,{"$f":"IF(G6='Задача 2'!G6,1,0)","v":0},{"$f":"IF(K6='Задача 2'!K6,1,0)","v":0},{"$f":"IF(L6='Задача 2'!L6,1,0)","v":0}]
[5,1040,"А-310","С.-Пб-Акапулько","2003-03-17","12:00:00",4500,9000,12,5,8550,13.125,"13:30:00","тепло, 26С","00:00:00",null,"01:30:00",null,null,{"$f":"IF(G7='Задача 2'!G7,1,0)","v":0},{"$f":"IF(K7='Задача 2'!K7,1,0)","v":0},{"$f":"IF(L7='Задача 2'!L7,1,0)","v":0}]
[6,8610,"ИЛ-62","Киев-Стамбул","2003-02-23","13:50:00",4725,9450,0,4,9072,"18:50:00","02:10:00","знойно, 42С","02:50:00","тех. пр.","00:00:00",null,null,{"$f":"IF(G8='Задача 2'!G8,1,0)","v":0},{"$f":"IF(K8='Задача 2'!K8,1,0)","v":0},{"$f":"IF(L8='Задача 2'!L8,1,0)","v":0}]
[7,2203,"ТУ-204","Москва-Одесса-Майами","2003-01-15","16:30:00",5250,10500,7,5.5,9922.5,8.1875,"11:30:00","жарко, 37С","00:00:00",null,"00:30:00",null,null,{"$f":"IF(G9='Задача 2'!G9,1,0)","v":0},{"$f":"IF(K9='Задача 2'!K9,1,0)","v":0},{"$f":"IF(L9='Задача 2'!L9,1,0)","v":0}]
["Минимальная цена билета для детей, руб",null,null,null,{"$f":"MIN(G3:G9)","v":750},{"$f":"IF(E10='Задача 2'!E10,\"верно\",\"пересчитай\")","v":"пересчитай"},null,null,null,null,null,null,null,null,null,null,null,null,null,{"$f":"SUM(T3:T9)","v":0},{"$f":"SUM(U3:U9)","v":0},{"$f":"SUM(V3:V9)","v":0}]
["Максимальная цена билета для детей, руб",null,null,null,{"$f":"MAX(G3:G9)","v":5250},{"$f":"IF(E11='Задача 2'!E11,\"верно\",\"пересчитай\")","v":"пересчитай"},null,null,null,null,null,null,null,null,null,null,null,null,null,{"$f":"IF(T10=7,\"верно\",\"пересчитай\")","v":"пересчитай"},{"$f":"IF(U10=7,\"верно\",\"пересчитай\")","v":"пересчитай"},{"$f":"IF(V10=7,\"верно\",\"пересчитай\")","v":"пересчитай"}]
["Максимальная цена билета для взрослых, руб",null,null,null,{"$f":"MAX(H3:H9)","v":10500},{"$f":"IF(E12='Задача 2'!E12,\"верно\",\"пересчитай\")","v":"пересчитай"}]
["Минимальная цена билета для взрослых, руб",null,null,null,{"$f":"MIN(H3:H9)","v":1500},{"$f":"IF(E13='Задача 2'!E13,\"верно\",\"пересчитай\")","v":"пересчитай"}]
["Максимальная цена билета для пенсионеров, руб",null,null,null,{"$f":"MAX(K3:K9)","v":9922.5},{"$f":"IF(E14='Задача 2'!E14,\"верно\",\"пересчитай\")","v":"пересчитай"}]
["Минимальная цена билета для пенсионеров, руб",null,null,null,{"$f":"MIN(K3:K9)","v":1425},{"$f":"IF(E15='Задача 2'!E15,\"верно\",\"пересчитай\")","v":"пересчитай"}]
["Общее время задержек рейсов, ч, мин",null,null,null,{"$f":"SUM(O3:O9)","v":"05:50:00"},{"$f":"IF(E16='Задача 2'!E16,\"верно\",\"пересчитай\")","v":"пересчитай"}]
["Средняя цена билетов для детей, руб",null,null,null,{"$f":"AVERAGE(G3:G9)","v":3460.7142857142858},{"$f":"IF(E17='Задача 2'!E17,\"верно\",\"пересчитай\")","v":"пересчитай"}]
["Средняя цена билетов для взрослых руб",null,null,null,{"$f":"AVERAGE(H3:H9)","v":6921.4285714285716},{"$f":"IF(E18='Задача 2'!E18,\"верно\",\"пересчитай\")","v":"пересчитай"}]

{"sheet":"результат 2","index":5,"n_rows":17,"n_cols":5,"rows_kept":17,"cut":false,"hidden":false,"merged":[[14,0,14,3],[15,0,15,3],[16,0,16,3],[8,0,8,3],[9,0,9,3],[10,0,10,3],[11,0,11,3],[12,0,12,3],[13,0,13,3]]}
["Цена билета для детей, руб","Цена билета для пенсионеров, руб","Время прибытия местное, ч, мин"]
[{"$f":"REPT('расч зад 2'!T11,1)","v":"пересчитай"},{"$f":"REPT('расч зад 2'!U11,1)","v":"пересчитай"},{"$f":"REPT('расч зад 2'!V11,1)","v":"пересчитай"}]
[]
[]
[]
[]
[]
[]
["Минимальная цена билета для детей, руб",null,null,null,{"$f":"REPT('расч зад 2'!F10,1)","v":"пересчитай"}]
["Максимальная цена билета для детей, руб",null,null,null,{"$f":"REPT('расч зад 2'!F11,1)","v":"пересчитай"}]
["Максимальная цена билета для взрослых, руб",null,null,null,{"$f":"REPT('расч зад 2'!F12,1)","v":"пересчитай"}]
["Минимальная цена билета для взрослых, руб",null,null,null,{"$f":"REPT('расч зад 2'!F13,1)","v":"пересчитай"}]
["Максимальная цена билета для пенсионеров, руб",null,null,null,{"$f":"REPT('расч зад 2'!F14,1)","v":"пересчитай"}]
["Минимальная цена билета для пенсионеров, руб",null,null,null,{"$f":"REPT('расч зад 2'!F15,1)","v":"пересчитай"}]
["Общее время задержек рейсов, ч, мин",null,null,null,{"$f":"REPT('расч зад 2'!F16,1)","v":"пересчитай"}]
["Средняя цена билетов для детей, руб",null,null,null,{"$f":"REPT('расч зад 2'!F17,1)","v":"пересчитай"}]
["Средняя цена билетов для взрослых руб",null,null,null,{"$f":"REPT('расч зад 2'!F18,1)","v":"пересчитай"}]

{"sheet":"Задача 3","index":6,"n_rows":14,"n_cols":15,"rows_kept":14,"cut":false,"hidden":false,"merged":[[9,0,9,2],[10,0,10,2],[11,0,11,2],[12,0,12,2],[13,0,13,2]]}
[]
["Дата  звонка","Город","Код города","Номер телефона","Стоимость одной минуты разговора, руб","Время разговора, мин","Начало разговора, ч, мин","Дата поступления счета","Начисление, руб","Скидка, %","Итого, руб","Назначенная дата оплаты","Дата оплаты","Пеня","Конечная стоимость, руб"]
["28 мая","Минск",172,573580,29.1,14,"22:30:00","10 июня",null,50,null,"16 июня","15 июня",0]
["30 мая","Гомель",2322,53084,29.1,8,"22:15:00","11 июня",null,50,null,"16 июня","15 июня",0]
["2 июня","Полярные зори",815,83245,9.6999999999999993,12,"15:10:00","12 июня",null,0,null,"16 июня","15 июня",0]
["2 июня","Псков",81122,24760,9.6999999999999993,5,"00:00:00","13 июня",null,50,null,"16 июня","20 июня",0.1]
["5 июня","Сосновый Бор",269,46889,9.6999999999999993,9,"22:05:00","14 июня",null,50,null,"16 июня","20 июня",0.1]
["6 июня","Апатиты",815,64068,9.6999999999999993,7,"18:30:00","15 июня",null,0,null,"16 июня","15 июня",0]
["7 июня","Речица",2340,84056,19.399999999999999,13,"00:15:00","16 июня",null,50,null,"16 июня","15 июня",0]
["Сумма платежей за телефонные разговоры, руб"]
["Средняя сумма платяжей за телефонные разговоры, руб"]
["Максимальная стоимость одной минуты разговора, руб"]
["Максимальная начисленная стоимость всего разговора, руб"]
["Максимальная конечная стоимость всего разговора, руб"]

{"sheet":"расч зад3","index":7,"n_rows":24,"n_cols":15,"rows_kept":24,"cut":false,"hidden":true,"merged":[[8,0,8,2],[9,0,9,2],[10,0,10,2],[11,0,11,2],[12,0,12,2]]}
["Дата  звонка","Город","Код города","Номер телефона","Стоимость одной минуты разговора, руб","Время разговора, мин","Начало разговора, ч, мин","Дата поступления счета","Начисление, руб","Скидка, %","Итого, руб","Назначенная дата оплаты","Дата оплаты","Пеня","Конечная стоимость, руб"]
["28 мая","Минск",172,573580,29.1,14,"22:30:00","10 июня",{"$f":"F2*E2","v":407.40000000000003},50,{"$f":"I2-(I2/100*J2)","v":203.7},"16 июня","15 июня",0,{"$f":"K2+K2*N2","v":203.7}]
["30 мая","Гомель",2322,53084,29.1,8,"22:15:00","11 июня",{"$f":"F3*E3","v":232.8},50,{"$f":"I3-(I3/100*J3)","v":116.39999999999999},"16 июня","15 июня",0,{"$f":"K3+K3*N3","v":116.39999999999999}]
["2 июня","Полярные зори",815,83245,9.6999999999999993,12,"15:10:00","12 июня",116.39999999999999,0,116.39999999999999,"16 июня","15 июня",0,116.39999999999999]
["2 июня","Псков",81122,24760,9.6999999999999993,5,"00:00:00","13 июня",48.5,50,24.25,"16 июня","20 июня",0.1,26.675000000000001]
["5 июня","Сосновый Бор",269,46889,9.6999999999999993,9,"22:05:00","14 июня",87.3,50,43.65,"16 июня","20 июня",0.1,48.015000000000001]
["6 июня","Апатиты",815,64068,9.6999999999999993,7,"18:30:00","15 июня",67.899999999999991,0,67.899999999999991,"16 июня","15 июня",0,67.899999999999991]
["7 июня","Речица",2340,84056,19.399999999999999,13,"00:15:00","16 июня",252.2,50,126.1,"16 июня","15 июня",0,126.1]
["Сумма платежей за телефонные разговоры, руб",null,null,{"$f":"SUM(O2:O8)","v":705.18999999999994},{"$f":"IF(D9='Задача 3'!D10,\"верно\",\"пересчитай\")","v":"пересчитай"}]
["Средняя сумма платяжей за телефонные разговоры, руб",null,null,{"$f":"AVERAGE(O2:O8)","v":100.74142857142856},{"$f":"IF(D10='Задача 3'!D11,\"верно\",\"пересчитай\")","v":"пересчитай"}]
["Максимальная стоимость одной минуты разговора, руб",null,null,{"$f":"MAX(E2:E8)","v":29.1},{"$f":"IF(D11='Задача 3'!D12,\"верно\",\"пересчитай\")","v":"пересчитай"}]
["Максимальная начисленная стоимость всего разговора, руб",null,null,{"$f":"MAX(I2:I8)","v":407.40000000000003},{"$f":"IF(D12='Задача 3'!D13,\"верно\",\"пересчитай\")","v":"пересчитай"}]
["Максимальная конечная стоимость всего разговора, руб",null,null,{"$f":"MAX(O2:O8)","v":203.7},{"$f":"IF(D13='Задача 3'!D14,\"верно\",\"пересчитай\")","v":"пересчитай"}]
[]
["Начисление, руб","Итого, руб","Конечная стоимость, руб"]
[{"$f":"IF(I2='Задача 3'!I3,1,0)","v":0},{"$f":"IF(K2='Задача 3'!K3,1,0)","v":0},{"$f":"IF(O2='Задача 3'!O3,1,0)","v":0}]
[{"$f":"IF(I3='Задача 3'!I4,1,0)","v":0},{"$f":"IF(K3='Задача 3'!K4,1,0)","v":0},{"$f":"IF(O3='Задача 3'!O4,1,0)","v":0}]
[{"$f":"IF(I4='Задача 3'!I5,1,0)","v":0},{"$f":"IF(K4='Задача 3'!K5,1,0)","v":0},{"$f":"IF(O4='Задача 3'!O5,1,0)","v":0}]
[{"$f":"IF(I5='Задача 3'!I6,1,0)","v":0},{"$f":"IF(K5='Задача 3'!K6,1,0)","v":0},{"$f":"IF(O5='Задача 3'!O6,1,0)","v":0}]
[{"$f":"IF(I6='Задача 3'!I7,1,0)","v":0},{"$f":"IF(K6='Задача 3'!K7,1,0)","v":0},{"$f":"IF(O6='Задача 3'!O7,1,0)","v":0}]
[{"$f":"IF(I7='Задача 3'!I8,1,0)","v":0},{"$f":"IF(K7='Задача 3'!K8,1,0)","v":0},{"$f":"IF(O7='Задача 3'!O8,1,0)","v":0}]
[{"$f":"IF(I8='Задача 3'!I9,1,0)","v":0},{"$f":"IF(K8='Задача 3'!K9,1,0)","v":0},{"$f":"IF(O8='Задача 3'!O9,1,0)","v":0}]
[{"$f":"SUM(A16:A22)","v":0},{"$f":"SUM(B16:B22)","v":0},{"$f":"SUM(C16:C22)","v":0}]
[{"$f":"IF(A23=7,\"верно\",\"пересчитай\")","v":"пересчитай"},{"$f":"IF(B23=7,\"верно\",\"пересчитай\")","v":"пересчитай"},{"$f":"IF(C23=7,\"верно\",\"пересчитай\")","v":"пересчитай"}]

{"sheet":"результат 3","index":8,"n_rows":8,"n_cols":4,"rows_kept":8,"cut":false,"hidden":false,"merged":[[3,0,3,2],[4,0,4,2],[5,0,5,2],[6,0,6,2],[7,0,7,2]]}
["Начисление, руб","Итого, руб","Конечная стоимость, руб"]
[{"$f":"REPT('расч зад3'!A24,1)","v":"пересчитай"},{"$f":"REPT('расч зад3'!B24,1)","v":"пересчитай"},{"$f":"REPT('расч зад3'!C24,1)","v":"пересчитай"}]
[]
["Сумма платежей за телефонные разговоры, руб",null,null,{"$f":"REPT('расч зад3'!E9,1)","v":"пересчитай"}]
["Средняя сумма платяжей за телефонные разговоры, руб",null,null,{"$f":"REPT('расч зад3'!E10,1)","v":"пересчитай"}]
["Максимальная стоимость одной минуты разговора, руб",null,null,{"$f":"REPT('расч зад3'!E11,1)","v":"пересчитай"}]
["Максимальная начисленная стоимость всего разговора, руб",null,null,{"$f":"REPT('расч зад3'!E12,1)","v":"пересчитай"}]
["Максимальная конечная стоимость всего разговора, руб",null,null,{"$f":"REPT('расч зад3'!E13,1)","v":"пересчитай"}]

{"sheet":"Задача 4","index":9,"n_rows":17,"n_cols":11,"rows_kept":17,"cut":false,"hidden":false,"merged":[[12,0,12,2],[13,0,13,2],[14,0,14,2],[15,0,15,2],[16,0,16,2]]}
[]
["Фамилия","Отдел","Должность","Стаж работы, лет","Тариф, руб","Кол-во отработанных дней в месяце","Начисленная зарплата, руб","Подоходный налог, руб","Отчисление в пенсионный фонд, руб","Сумма к выдаче, руб","Итоговая зарплата с учетом стажа, руб"]
["Ушкин","ВЦ","Инженер",0,120,22]
["Уморов","КО","Экономист",3,140,20]
["Заморов","ВО","Инспектор",3,130,19]
["Дудкин","КО","Экономист",4,150,15]
["Лопухов","ВЦ","Начальник",10,180,22]
["носов","КО","Программист",5,150,22]
["Горлов","ВЦ","Программист",7,170,21]
["Ротов","КО","Экономист",2,135,19]
["Ешкин","ВО","Начальник",4,160,20]
["Маков","ВО","Инженер",8,150,22]
["Сумма всех итоговых зарплат, руб"]
["Средняя зарплата, руб"]
["Минимальная зарплата сотрудников, руб"]
["Средний стаж сотрудников"]
["Максимальная зарплата сотрудника, руб"]

{"sheet":"расч зад4","index":10,"n_rows":30,"n_cols":11,"rows_kept":30,"cut":false,"hidden":true,"merged":[[11,0,11,2],[12,0,12,2],[13,0,13,2],[14,0,14,2],[15,0,15,2]]}
["Фамилия","Отдел","Должность","Стаж работы, лет","Тариф, руб","Кол-во отработанных дней в месяце","Начисленная зарплата, руб","Подоходный налог, руб","Отчисление в пенсионный фонд, руб","Сумма к выдаче, руб","Итоговая зарплата с учетом стажа, руб"]
["Ушкин","ВЦ","Инженер",0,120,22,{"$f":"E2*F2","v":2640},{"$f":"G2*0.13","v":343.2},{"$f":"G2*0.01","v":26.400000000000002},{"$f":"G2-H2-I2","v":2270.4},{"$f":"IF(D2>3,1.15*J2,J2)","v":2270.4}]
["Уморов","КО","Экономист",3,140,20,{"$f":"E3*F3","v":2800},{"$f":"G3*0.13","v":364},{"$f":"G3*0.01","v":28},{"$f":"G3-H3-I3","v":2408},{"$f":"IF(D3>3,1.15*J3,J3)","v":2408}]
["Заморов","ВО","Инспектор",3,130,19,2470,321.10000000000002,24.7,2124.2000000000003,2124.2000000000003]
["Дудкин","КО","Экономист",4,150,15,2250,292.5,22.5,1935,2225.25]
["Лопухов","ВЦ","Начальник",10,180,22,3960,514.80000000000007,39.6,3405.6,3916.4399999999996]
["носов","КО","Программист",5,150,22,3300,429,33,2838,3263.7]
["Горлов","ВЦ","Программист",7,170,21,3570,464.1,35.700000000000003,3070.2000000000003,3530.73]
["Ротов","КО","Экономист",2,135,19,2565,333.45,25.650000000000002,2205.9,2205.9]
["Ешкин","ВО","Начальник",4,160,20,3200,416,32,2752,3164.7999999999997]
["Маков","ВО","Инженер",8,150,22,3300,429,33,2838,3263.7]
["Сумма всех итоговых зарплат, руб",null,null,{"$f":"SUM(K2:K11)","v":28373.120000000003},{"$f":"IF(D12='Задача 4'!D13,\"верно\",\"пересчитай\")","v":"пересчитай"}]
["Средняя зарплата, руб",null,null,{"$f":"AVERAGE(K2:K11)","v":2837.3120000000004},{"$f":"IF(D13='Задача 4'!D14,\"верно\",\"пересчитай\")","v":"пересчитай"}]
["Минимальная зарплата сотрудников, руб",null,null,{"$f":"MIN(K2:K11)","v":2124.2000000000003},{"$f":"IF(D14='Задача 4'!D15,\"верно\",\"пересчитай\")","v":"пересчитай"}]
["Средний стаж сотрудников",null,null,{"$f":"AVERAGE(D2:D11)","v":4.5999999999999996},{"$f":"IF(D15='Задача 4'!D16,\"верно\",\"пересчитай\")","v":"пересчитай"}]
["Максимальная зарплата сотрудника, руб",null,null,{"$f":"MAX(K2:K11)","v":3916.4399999999996},{"$f":"IF(D16='Задача 4'!D17,\"верно\",\"пересчитай\")","v":"пересчитай"}]
[]
["Начисленная зарплата, руб","Подоходный налог, руб","Отчисление в пенсионный фонд, руб","Сумма к выдаче, руб","Итоговая зарплата с учетом стажа, руб"]
[{"$f":"IF(G2='Задача 4'!G3,1,0)","v":0},{"$f":"IF(H2='Задача 4'!H3,1,0)","v":0},{"$f":"IF(I2='Задача 4'!I3,1,0)","v":0},{"$f":"IF(J2='Задача 4'!J3,1,0)","v":0},{"$f":"IF(K2='Задача 4'!K3,1,0)","v":0}]
[{"$f":"IF(G3='Задача 4'!G4,1,0)","v":0},{"$f":"IF(H3='Задача 4'!H4,1,0)","v":0},{"$f":"IF(I3='Задача 4'!I4,1,0)","v":0},{"$f":"IF(J3='Задача 4'!J4,1,0)","v":0},{"$f":"IF(K3='Задача 4'!K4,1,0)","v":0}]
[{"$f":"IF(G4='Задача 4'!G5,1,0)","v":0},{"$f":"IF(H4='Задача 4'!H5,1,0)","v":0},{"$f":"IF(I4='Задача 4'!I5,1,0)","v":0},{"$f":"IF(J4='Задача 4'!J5,1,0)","v":0},{"$f":"IF(K4='Задача 4'!K5,1,0)","v":0}]
[{"$f":"IF(G5='Задача 4'!G6,1,0)","v":0},{"$f":"IF(H5='Задача 4'!H6,1,0)","v":0},{"$f":"IF(I5='Задача 4'!I6,1,0)","v":0},{"$f":"IF(J5='Задача 4'!J6,1,0)","v":0},{"$f":"IF(K5='Задача 4'!K6,1,0)","v":0}]
[{"$f":"IF(G6='Задача 4'!G7,1,0)","v":0},{"$f":"IF(H6='Задача 4'!H7,1,0)","v":0},{"$f":"IF(I6='Задача 4'!I7,1,0)","v":0},{"$f":"IF(J6='Задача 4'!J7,1,0)","v":0},{"$f":"IF(K6='Задача 4'!K7,1,0)","v":0}]
[{"$f":"IF(G7='Задача 4'!G8,1,0)","v":0},{"$f":"IF(H7='Задача 4'!H8,1,0)","v":0},{"$f":"IF(I7='Задача 4'!I8,1,0)","v":0},{"$f":"IF(J7='Задача 4'!J8,1,0)","v":0},{"$f":"IF(K7='Задача 4'!K8,1,0)","v":0}]
[{"$f":"IF(G8='Задача 4'!G9,1,0)","v":0},{"$f":"IF(H8='Задача 4'!H9,1,0)","v":0},{"$f":"IF(I8='Задача 4'!I9,1,0)","v":0},{"$f":"IF(J8='Задача 4'!J9,1,0)","v":0},{"$f":"IF(K8='Задача 4'!K9,1,0)","v":0}]
[{"$f":"IF(G9='Задача 4'!G10,1,0)","v":0},{"$f":"IF(H9='Задача 4'!H10,1,0)","v":0},{"$f":"IF(I9='Задача 4'!I10,1,0)","v":0},{"$f":"IF(J9='Задача 4'!J10,1,0)","v":0},{"$f":"IF(K9='Задача 4'!K10,1,0)","v":0}]
[{"$f":"IF(G10='Задача 4'!G11,1,0)","v":0},{"$f":"IF(H10='Задача 4'!H11,1,0)","v":0},{"$f":"IF(I10='Задача 4'!I11,1,0)","v":0},{"$f":"IF(J10='Задача 4'!J11,1,0)","v":0},{"$f":"IF(K10='Задача 4'!K11,1,0)","v":0}]
[{"$f":"IF(G11='Задача 4'!G12,1,0)","v":0},{"$f":"IF(H11='Задача 4'!H12,1,0)","v":0},{"$f":"IF(I11='Задача 4'!I12,1,0)","v":0},{"$f":"IF(J11='Задача 4'!J12,1,0)","v":0},{"$f":"IF(K11='Задача 4'!K12,1,0)","v":0}]
[{"$f":"SUM(A19:A28)","v":0},{"$f":"SUM(B19:B28)","v":0},{"$f":"SUM(C19:C28)","v":0},{"$f":"SUM(D19:D28)","v":0},{"$f":"SUM(E19:E28)","v":0}]
[{"$f":"IF(A29=10,\"верно\",\"пересчитай\")","v":"пересчитай"},{"$f":"IF(B29=10,\"верно\",\"пересчитай\")","v":"пересчитай"},{"$f":"IF(C29=10,\"верно\",\"пересчитай\")","v":"пересчитай"},{"$f":"IF(D29=10,\"верно\",\"пересчитай\")","v":"пересчитай"},{"$f":"IF(E29=10,\"верно\",\"пересчитай\")","v":"пересчитай"}]

{"sheet":"результат4","index":11,"n_rows":8,"n_cols":5,"rows_kept":8,"cut":false,"hidden":false,"merged":[[3,0,3,2],[4,0,4,2],[5,0,5,2],[6,0,6,2],[7,0,7,2]]}
["Начисленная зарплата, руб","Подоходный налог, руб","Отчисление в пенсионный фонд, руб","Сумма к выдаче, руб","Итоговая зарплата с учетом стажа, руб"]
[{"$f":"REPT('расч зад4'!A30,1)","v":"пересчитай"},{"$f":"REPT('расч зад4'!B30,1)","v":"пересчитай"},{"$f":"REPT('расч зад4'!C30,1)","v":"пересчитай"},{"$f":"REPT('расч зад4'!D30,1)","v":"пересчитай"},{"$f":"REPT('расч зад4'!E30,1)","v":"пересчитай"}]
[]
["Сумма всех итоговых зарплат, руб",null,null,{"$f":"REPT('расч зад4'!E12,1)","v":"пересчитай"}]
["Средняя зарплата, руб",null,null,{"$f":"REPT('расч зад4'!E13,1)","v":"пересчитай"}]
["Минимальная зарплата сотрудников, руб",null,null,{"$f":"REPT('расч зад4'!E14,1)","v":"пересчитай"}]
["Средний стаж сотрудников",null,null,{"$f":"REPT('расч зад4'!E15,1)","v":"пересчитай"}]
["Максимальная зарплата сотрудника, руб",null,null,{"$f":"REPT('расч зад4'!E16,1)","v":"пересчитай"}]

{"sheet":"Задача 5","index":12,"n_rows":17,"n_cols":14,"rows_kept":17,"cut":false,"hidden":false,"merged":[[12,0,12,1],[13,0,13,1],[14,0,14,1],[15,0,15,1],[16,0,16,1]]}
[]
["Клиент (вкладчик)","Кодовый номер вкладчика","Наименование застрахованного товара","Информация о вкладе","Информация о вкладчике","Стоимость страхового полиса, $","Ежемесячный взнос, % от вклада","Срок страхования, мес","Итоговая прибыль, $","Агент страхования","Процент агента в месяц","Дополнительные услуги, $","Итоговая Сумма, $","Выплата денег агентам, $"]
["Алексеев",1234,"2 машины","BMW","А-576",30000,10,3,null,"Сидоренко",5,500]
["Аброхин",1235,"золото","486 проба 1 кг","А-568",24000,10,4,null,"Вуниров",5,500]
["Авдохин",1236,"серебро, алмазы","276 проба 500г","А-569",35000,10,2,null,"Мкалов",5,500]
["Бабахин",1237,"7 машин","ГАЗ-54","Б-768",37000,10,3,null,"Рудин",5]
["Бабкин",1238,"2 самолета","ТУ-134","Б-769",600000,10,3,null,"Вавакин",5]
["Горохов",1239,"дача, машина","сруб, ВАЗ 2106","Г-456",20000,10,2,null,"Лужин",5]
["Мухин",1300,"бриллианты","3,5 карата","М-975",35000,10,1,null,"Амкиров",5,1000]
["Молотов",1301,"дача, золото","15*12,96, 500г","М-976",29000,10,3,null,"Вавилов",5]
["Молоков",1302,"самолет","ИЛ-76","М-977",400000,10,2,null,"Рыков",5]
["Линоков",1303,"перевозка","1т бананов","Л-555",4000,10,2,null,"Уваров",5,1550]
["Общая сумма прибыли фирмы, $"]
["Сумма выплат страховым агентам, $"]
["Наибольшая сумма вклада, $"]
["Наименьшая сумма вклада, $"]
["Средняя выплата денег страховым агентам, $"]

{"sheet":"расч зад 5","index":13,"n_rows":25,"n_cols":14,"rows_kept":25,"cut":false,"hidden":true,"merged":[[12,0,12,1],[13,0,13,1],[14,0,14,1],[15,0,15,1],[16,0,16,1]]}
["Клиент (вкладчик)","Кодовый номер вкладчика","Наименование застрахованного товара","Информация о вкладе","Информация о вкладчике","Стоимость страхового полиса, $","Ежемесячный взнос, % от вклада","Срок страхования, мес","Итоговая прибыль, $","Агент страхования","Процент агента в месяц","Дополнительные услуги, $","Итоговая Сумма, $","Выплата денег агентам, $"]
["Алексеев",1234,"2 машины","BMW","А-576",30000,10,3,{"$f":"H2*F2*G2/100","v":9000},"Сидоренко",5,500,{"$f":"I2+L2","v":9500},{"$f":"M2*0.05","v":475}]
["Аброхин",1235,"золото","486 проба 1 кг","А-568",24000,10,4,{"$f":"H3*F3*G3/100","v":9600},"Вуниров",5,500,{"$f":"I3+L3","v":10100},{"$f":"M3*0.05","v":505}]
["Авдохин",1236,"серебро, алмазы","276 проба 500г","А-569",35000,10,2,7000,"Мкалов",5,500,7500,375]
["Бабахин",1237,"7 машин","ГАЗ-54","Б-768",37000,10,3,11100,"Рудин",5,null,11100,555]
["Бабкин",1238,"2 самолета","ТУ-134","Б-769",600000,10,3,180000,"Вавакин",5,null,180000,9000]
["Горохов",1239,"дача, машина","сруб, ВАЗ 2106","Г-456",20000,10,2,4000,"Лужин",5,null,4000,200]
["Мухин",1300,"бриллианты","3,5 карата","М-975",35000,10,1,3500,"Амкиров",5,1000,4500,225]
["Молотов",1301,"дача, золото","15*12,96, 500г","М-976",29000,10,3,8700,"Вавилов",5,null,8700,435]
["Молоков",1302,"самолет","ИЛ-76","М-977",400000,10,2,80000,"Рыков",5,null,80000,4000]
["Линоков",1303,"перевозка","1т бананов","Л-555",4000,10,2,800,"Уваров",5,1550,2350,117.5]
[]
["Общая сумма прибыли фирмы, $",null,{"$f":"SUM(M2:M11)","v":317750},{"$f":"IF(C13='Задача 5'!C13,\"верно\",\"пересчитай\")","v":"пересчитай"},null,null,null,null,"Итоговая прибыль, $","Итоговая Сумма, $","Выплата денег агентам, $"]
["Сумма выплат страховым агентам, $",null,{"$f":"SUM(N2:N11)","v":15887.5},{"$f":"IF(C14='Задача 5'!C14,\"верно\",\"пересчитай\")","v":"пересчитай"},null,null,null,null,{"$f":"IF(I2='Задача 5'!I3,1,0)","v":0},{"$f":"IF(M2='Задача 5'!M3,1,0)","v":0},{"$f":"IF(N2='Задача 5'!N3,1,0)","v":0}]
["Наибольшая сумма вклада, $",null,{"$f":"MAX(F2:F11)","v":600000},{"$f":"IF(C15='Задача 5'!C15,\"верно\",\"пересчитай\")","v":"пересчитай"},null,null,null,null,{"$f":"IF(I3='Задача 5'!I4,1,0)","v":0},{"$f":"IF(M3='Задача 5'!M4,1,0)","v":0},{"$f":"IF(N3='Задача 5'!N4,1,0)","v":0}]
["Наименьшая сумма вклада, $",null,{"$f":"MIN(F2:F11)","v":4000},{"$f":"IF(C16='Задача 5'!C16,\"верно\",\"пересчитай\")","v":"пересчитай"},null,null,null,null,{"$f":"IF(I4='Задача 5'!I5,1,0)","v":0},{"$f":"IF(M4='Задача 5'!M5,1,0)","v":0},{"$f":"IF(N4='Задача 5'!N5,1,0)","v":0}]
["Средняя выплата денег страховым агентам, $",null,{"$f":"AVERAGE(N2:N11)","v":1588.75},{"$f":"IF(C17='Задача 5'!C17,\"верно\",\"пересчитай\")","v":"пересчитай"},null,null,null,null,{"$f":"IF(I5='Задача 5'!I6,1,0)","v":0},{"$f":"IF(M5='Задача 5'!M6,1,0)","v":0},{"$f":"IF(N5='Задача 5'!N6,1,0)","v":0}]
[null,null,null,null,null,null,null,null,{"$f":"IF(I6='Задача 5'!I7,1,0)","v":0},{"$f":"IF(M6='Задача 5'!M7,1,0)","v":0},{"$f":"IF(N6='Задача 5'!N7,1,0)","v":0}]
[null,null,null,null,null,null,null,null,{"$f":"IF(I7='Задача 5'!I8,1,0)","v":0},{"$f":"IF(M7='Задача 5'!M8,1,0)","v":0},{"$f":"IF(N7='Задача 5'!N8,1,0)","v":0}]
[null,null,null,null,null,null,null,null,{"$f":"IF(I8='Задача 5'!I9,1,0)","v":0},{"$f":"IF(M8='Задача 5'!M9,1,0)","v":0},{"$f":"IF(N8='Задача 5'!N9,1,0)","v":0}]
[null,null,null,null,null,null,null,null,{"$f":"IF(I9='Задача 5'!I10,1,0)","v":0},{"$f":"IF(M9='Задача 5'!M10,1,0)","v":0},{"$f":"IF(N9='Задача 5'!N10,1,0)","v":0}]
[null,null,null,null,null,null,null,null,{"$f":"IF(I10='Задача 5'!I11,1,0)","v":0},{"$f":"IF(M10='Задача 5'!M11,1,0)","v":0},{"$f":"IF(N10='Задача 5'!N11,1,0)","v":0}]
[null,null,null,null,null,null,null,null,{"$f":"IF(I11='Задача 5'!I12,1,0)","v":0},{"$f":"IF(M11='Задача 5'!M12,1,0)","v":0},{"$f":"IF(N11='Задача 5'!N12,1,0)","v":0}]
[null,null,null,null,null,null,null,null,{"$f":"SUM(I14:I23)","v":0},{"$f":"SUM(J14:J23)","v":0},{"$f":"SUM(K14:K23)","v":0}]
[null,null,null,null,null,null,null,null,{"$f":"IF(I24=10,\"верно\",\"пересчитай\")","v":"пересчитай"},{"$f":"IF(J24=10,\"верно\",\"пересчитай\")","v":"пересчитай"},{"$f":"IF(K24=10,\"верно\",\"пересчитай\")","v":"пересчитай"}]

{"sheet":"резул5","index":14,"n_rows":8,"n_cols":3,"rows_kept":8,"cut":false,"hidden":false,"merged":[[3,0,3,1],[4,0,4,1],[5,0,5,1],[6,0,6,1],[7,0,7,1]]}
["Итоговая прибыль, $","Итоговая Сумма, $","Выплата денег агентам, $"]
[{"$f":"REPT('расч зад 5'!I25,1)","v":"пересчитай"},{"$f":"REPT('расч зад 5'!J25,1)","v":"пересчитай"},{"$f":"REPT('расч зад 5'!K25,1)","v":"пересчитай"}]
[]
["Общая сумма прибыли фирмы, $",null,{"$f":"REPT('расч зад 5'!D13,1)","v":"пересчитай"}]
["Сумма выплат страховым агентам, $",null,{"$f":"REPT('расч зад 5'!D14,1)","v":"пересчитай"}]
["Наибольшая сумма вклада, $",null,{"$f":"REPT('расч зад 5'!D15,1)","v":"пересчитай"}]
["Наименьшая сумма вклада, $",null,{"$f":"REPT('расч зад 5'!D16,1)","v":"пересчитай"}]
["Средняя выплата денег страховым агентам, $",null,{"$f":"REPT('расч зад 5'!D17,1)","v":"пересчитай"}]

{"sheet":"Задача 6","index":15,"n_rows":19,"n_cols":20,"rows_kept":19,"cut":false,"hidden":false,"merged":[[15,0,15,1],[16,0,16,1],[17,0,17,1],[18,0,18,1],[15,17,15,18],[16,17,16,18],[17,17,17,18],[18,17,18,18]]}
[]
["Порядковый номер ученика","Фамилия","Оценка по алгебре","Оценка по геометрии","Оценка по литературе","Оценка по биологии","Оценка по географии","Оценка по физике","Оценка по химии","Оценка по английскому языку","Оценка по ангийскому языку на компьютере","Оценка по физкультуре","Оценка по истории","Оценка по духовной истории","Оценка по экономике","Оценка по мировой художественной культуре","Оценка по ОБЖ","Средний балл ученика","Округленный до целых  средний балл","Округленный до десятых средний балл"]
[1,"Абрамов",4,5,4,5,5,5,3,4,5,5,3,4,4,4,5]
[2,"Александров",4,4,3,4,5,5,5,5,5,4,4,5,5,5,5]
[3,"Алекссев",5,5,5,5,5,5,5,5,5,5,5,5,5,5,5]
[4,"Борисов",4,4,5,5,4,5,4,4,5,4,4,4,4,4,5]
[5,"Гаврилов",4,4,3,4,5,3,3,3,4,4,4,4,4,4,5]
[6,"Давыдов",4,4,3,4,5,3,3,4,5,5,3,4,4,3,4]
[7,"Зубков",4,5,3,4,5,4,4,5,5,4,4,4,4,5,4]
[8,"Карасев",4,4,4,4,4,4,4,5,5,4,3,3,4,4,5]
[9,"Кораблев",4,4,3,3,4,4,4,5,5,3,4,4,4,4,5]
[10,"Кудряшов",3,3,4,3,3,2,3,5,3,3,3,4,5,3,3]
[11,"Лукичев",4,4,3,4,5,4,4,4,4,4,3,4,4,4,4]
[12,"Макаревич",3,4,4,4,4,3,3,5,5,4,3,4,5,5,5]
[13,"Макарова",3,3,3,4,5,3,4,4,4,5,4,5,5,4,5]
["Средние баллы по предмету",null,null,null,null,null,null,null,null,null,null,null,null,null,null,null,null,"Средний балл учащихся класса"]
["Кол-во \"5\" по предмету",null,null,null,null,null,null,null,null,null,null,null,null,null,null,null,null,"Кол-во учащихся, которые имеют средний балл \"5\""]
["Кол-во \"4\" по предмету",null,null,null,null,null,null,null,null,null,null,null,null,null,null,null,null,"Кол-во учащихся, которые имеют средний балл \"4\""]
["Кол-во \"3\" по предмету",null,null,null,null,null,null,null,null,null,null,null,null,null,null,null,null,"Кол-во учащихся, которые имеют средний балл \"3\""]

{"sheet":"расч зад6","index":16,"n_rows":23,"n_cols":24,"rows_kept":23,"cut":false,"hidden":true,"merged":[[22,0,22,1],[14,0,14,1],[14,17,14,18],[15,0,15,1],[15,17,15,18],[16,0,16,1],[16,17,16,18],[18,21,18,22],[19,21,19,22],[20,21,20,22],[21,21,21,22],[17,0,17,1],[17,17,17,18],[19,0,19,1],[20,0,20,1],[21,0,21,1]]}
["Порядковый номер ученика","Фамилия","Оценка по алгебре","Оценка по геометрии","Оценка по литературе","Оценка по биологии","Оценка по географии","Оценка по физике","Оценка по химии","Оценка по английскому языку","Оценка по ангийскому языку на компьютере","Оценка по физкультуре","Оценка по истории","Оценка по духовной истории","Оценка по экономике","Оценка по мировой художественной культуре","Оценка по ОБЖ","Средний балл ученика","Округленный до целых  средний балл","Округленный до десятых средний балл",null,"Средний балл ученика","Округленный до целых  средний балл","Округленный до десятых средний балл"]
[1,"Абрамов",4,5,4,5,5,5,3,4,5,5,3,4,4,4,5,{"$f":"AVERAGE(C2:Q2)","v":4.333333333333333},{"$f":"ROUND(R2,0)","v":4},{"$f":"ROUND(R2,1)","v":4.3},null,{"$f":"IF(R2='Задача 6'!R3,1,0)","v":0},{"$f":"IF(S2='Задача 6'!S3,1,0)","v":0},{"$f":"IF(T2='Задача 6'!T3,1,0)","v":0}]
[2,"Александров",4,4,3,4,5,5,5,5,5,4,4,5,5,5,5,{"$f":"AVERAGE(C3:Q3)","v":4.5333333333333332},{"$f":"ROUND(R3,0)","v":5},{"$f":"ROUND(R3,1)","v":4.5},null,{"$f":"IF(R3='Задача 6'!R4,1,0)","v":0},{"$f":"IF(S3='Задача 6'!S4,1,0)","v":0},{"$f":"IF(T3='Задача 6'!T4,1,0)","v":0}]
[3,"Алекссев",5,5,5,5,5,5,5,5,5,5,5,5,5,5,5,5,5,5,null,{"$f":"IF(R4='Задача 6'!R5,1,0)","v":0},{"$f":"IF(S4='Задача 6'!S5,1,0)","v":0},{"$f":"IF(T4='Задача 6'!T5,1,0)","v":0}]
[4,"Борисов",4,4,5,5,4,5,4,4,5,4,4,4,4,4,5,4.333333333333333,4,4.3,null,{"$f":"IF(R5='Задача 6'!R6,1,0)","v":0},{"$f":"IF(S5='Задача 6'!S6,1,0)","v":0},{"$f":"IF(T5='Задача 6'!T6,1,0)","v":0}]
[5,"Гаврилов",4,4,3,4,5,3,3,3,4,4,4,4,4,4,5,3.8666666666666667,4,3.9,null,{"$f":"IF(R6='Задача 6'!R7,1,0)","v":0},{"$f":"IF(S6='Задача 6'!S7,1,0)","v":0},{"$f":"IF(T6='Задача 6'!T7,1,0)","v":0}]
[6,"Давыдов",4,4,3,4,5,3,3,4,5,5,3,4,4,3,4,3.8666666666666667,4,3.9,null,{"$f":"IF(R7='Задача 6'!R8,1,0)","v":0},{"$f":"IF(S7='Задача 6'!S8,1,0)","v":0},{"$f":"IF(T7='Задача 6'!T8,1,0)","v":0}]
[7,"Зубков",4,5,3,4,5,4,4,5,5,4,4,4,4,5,4,4.2666666666666666,4,4.3,null,{"$f":"IF(R8='Задача 6'!R9,1,0)","v":0},{"$f":"IF(S8='Задача 6'!S9,1,0)","v":0},{"$f":"IF(T8='Задача 6'!T9,1,0)","v":0}]
[8,"Карасев",4,4,4,4,4,4,4,5,5,4,3,3,4,4,5,4.0666666666666664,4,4.0999999999999996,null,{"$f":"IF(R9='Задача 6'!R10,1,0)","v":0},{"$f":"IF(S9='Задача 6'!S10,1,0)","v":0},{"$f":"IF(T9='Задача 6'!T10,1,0)","v":0}]
[9,"Кораблев",4,4,3,3,4,4,4,5,5,3,4,4,4,4,5,4,4,4,null,{"$f":"IF(R10='Задача 6'!R11,1,0)","v":0},{"$f":"IF(S10='Задача 6'!S11,1,0)","v":0},{"$f":"IF(T10='Задача 6'!T11,1,0)","v":0}]
[10,"Кудряшов",3,3,4,3,3,2,3,5,3,3,3,4,5,3,3,3.3333333333333335,3,3.3,null,{"$f":"IF(R11='Задача 6'!R12,1,0)","v":0},{"$f":"IF(S11='Задача 6'!S12,1,0)","v":0},{"$f":"IF(T11='Задача 6'!T12,1,0)","v":0}]
[11,"Лукичев",4,4,3,4,5,4,4,4,4,4,3,4,4,4,4,3.9333333333333331,4,3.9,null,{"$f":"IF(R12='Задача 6'!R13,1,0)","v":0},{"$f":"IF(S12='Задача 6'!S13,1,0)","v":0},{"$f":"IF(T12='Задача 6'!T13,1,0)","v":0}]
[12,"Макаревич",3,4,4,4,4,3,3,5,5,4,3,4,5,5,5,4.0666666666666664,4,4.0999999999999996,null,{"$f":"IF(R13='Задача 6'!R14,1,0)","v":0},{"$f":"IF(S13='Задача 6'!S14,1,0)","v":0},{"$f":"IF(T13='Задача 6'!T14,1,0)","v":0}]
[13,"Макарова",3,3,3,4,5,3,4,4,4,5,4,5,5,4,5,4.0666666666666664,4,4.0999999999999996,null,{"$f":"IF(R14='Задача 6'!R15,1,0)","v":0},{"$f":"IF(S14='Задача 6'!S15,1,0)","v":0},{"$f":"IF(T14='Задача 6'!T15,1,0)","v":0}]
["Средние баллы по предмету",null,{"$f":"AVERAGE(C2:C14)","v":3.8461538461538463},{"$f":"AVERAGE(D2:D14)","v":4.0769230769230766},3.6153846153846154,4.0769230769230766,4.5384615384615383,3.8461538461538463,3.7692307692307692,4.4615384615384617,4.615384615384615,4.1538461538461542,3.6153846153846154,4.1538461538461542,4.384615384615385,4.1538461538461542,4.615384615384615,"Средний балл учащихся класса",null,{"$f":"AVERAGE(S2:S14)","v":4.0769230769230766},null,{"$f":"SUM(V2:V14)","v":0},{"$f":"SUM(W2:W14)","v":0},{"$f":"SUM(X2:X14)","v":0}]
["Кол-во \"5\" по предмету",null,{"$f":"COUNTIF(C2:C14,5)","v":1},{"$f":"COUNTIF(D2:D14,5)","v":3},2,3,8,4,2,7,9,4,1,3,5,4,9,"Кол-во учащихся, которые имеют средний балл \"5\"",null,{"$f":"COUNTIF(S2:S14,5)","v":2},null,{"$f":"IF(V15=13,\"верно\",\"пересчитай\")","v":"пересчитай"},{"$f":"IF(W15=13,\"верно\",\"пересчитай\")","v":"пересчитай"},{"$f":"IF(X15=13,\"верно\",\"пересчитай\")","v":"пересчитай"}]
["Кол-во \"4\" по предмету",null,{"$f":"COUNTIF(C2:C14,4)","v":9},{"$f":"COUNTIF(D2:D14,4)","v":8},4,8,4,4,6,5,3,7,6,9,8,7,3,"Кол-во учащихся, которые имеют средний балл \"4\"",null,{"$f":"COUNTIF(S2:S14,4)","v":10}]
["Кол-во \"3\" по предмету",null,{"$f":"COUNTIF(C2:C14,3)","v":3},{"$f":"COUNTIF(D2:D14,3)","v":2},7,2,1,4,5,1,1,2,6,1,0,2,1,"Кол-во учащихся, которые имеют средний балл \"3\"",null,{"$f":"COUNTIF(S2:S14,3)","v":1}]
[null,null,null,null,null,null,null,null,null,null,null,null,null,null,null,null,null,null,null,null,null,"Средний балл учащихся класса",null,{"$f":"IF(T15='Задача 6'!T16,\"верно\",\"пересчитай\")","v":"пересчитай"}]
["Средние баллы по предмету",null,{"$f":"IF(C15='Задача 6'!C16,1,0)","v":0},{"$f":"IF(D15='Задача 6'!D16,1,0)","v":0},{"$f":"IF(E15='Задача 6'!E16,1,0)","v":0},{"$f":"IF(F15='Задача 6'!F16,1,0)","v":0},{"$f":"IF(G15='Задача 6'!G16,1,0)","v":0},{"$f":"IF(H15='Задача 6'!H16,1,0)","v":0},{"$f":"IF(I15='Задача 6'!I16,1,0)","v":0},{"$f":"IF(J15='Задача 6'!J16,1,0)","v":0},{"$f":"IF(K15='Задача 6'!K16,1,0)","v":0},{"$f":"IF(L15='Задача 6'!L16,1,0)","v":0},{"$f":"IF(M15='Задача 6'!M16,1,0)","v":0},{"$f":"IF(N15='Задача 6'!N16,1,0)","v":0},{"$f":"IF(O15='Задача 6'!O16,1,0)","v":0},{"$f":"IF(P15='Задача 6'!P16,1,0)","v":0},{"$f":"IF(Q15='Задача 6'!Q16,1,0)","v":0},{"$f":"SUM(C20:Q20)","v":0},{"$f":"IF(R20=15,\"верно\",\"пересчитай\")","v":"пересчитай"},null,null,"Кол-во учащихся, которые имеют средний балл \"5\"",null,{"$f":"IF(T16='Задача 6'!T17,\"верно\",\"пересчитай\")","v":"пересчитай"}]
["Кол-во \"5\" по предмету",null,{"$f":"IF(C16='Задача 6'!C17,1,0)","v":0},{"$f":"IF(D16='Задача 6'!D17,1,0)","v":0},{"$f":"IF(E16='Задача 6'!E17,1,0)","v":0},{"$f":"IF(F16='Задача 6'!F17,1,0)","v":0},{"$f":"IF(G16='Задача 6'!G17,1,0)","v":0},{"$f":"IF(H16='Задача 6'!H17,1,0)","v":0},{"$f":"IF(I16='Задача 6'!I17,1,0)","v":0},{"$f":"IF(J16='Задача 6'!J17,1,0)","v":0},{"$f":"IF(K16='Задача 6'!K17,1,0)","v":0},{"$f":"IF(L16='Задача 6'!L17,1,0)","v":0},{"$f":"IF(M16='Задача 6'!M17,1,0)","v":0},{"$f":"IF(N16='Задача 6'!N17,1,0)","v":0},{"$f":"IF(O16='Задача 6'!O17,1,0)","v":0},{"$f":"IF(P16='Задача 6'!P17,1,0)","v":0},{"$f":"IF(Q16='Задача 6'!Q17,1,0)","v":0},{"$f":"SUM(C21:Q21)","v":0},{"$f":"IF(R21=15,\"верно\",\"пересчитай\")","v":"пересчитай"},null,null,"Кол-во учащихся, которые имеют средний балл \"4\"",null,{"$f":"IF(T17='Задача 6'!T18,\"верно\",\"пересчитай\")","v":"пересчитай"}]
["Кол-во \"4\" по предмету",null,{"$f":"IF(C17='Задача 6'!C18,1,0)","v":0},{"$f":"IF(D17='Задача 6'!D18,1,0)","v":0},{"$f":"IF(E17='Задача 6'!E18,1,0)","v":0},{"$f":"IF(F17='Задача 6'!F18,1,0)","v":0},{"$f":"IF(G17='Задача 6'!G18,1,0)","v":0},{"$f":"IF(H17='Задача 6'!H18,1,0)","v":0},{"$f":"IF(I17='Задача 6'!I18,1,0)","v":0},{"$f":"IF(J17='Задача 6'!J18,1,0)","v":0},{"$f":"IF(K17='Задача 6'!K18,1,0)","v":0},{"$f":"IF(L17='Задача 6'!L18,1,0)","v":0},{"$f":"IF(M17='Задача 6'!M18,1,0)","v":0},{"$f":"IF(N17='Задача 6'!N18,1,0)","v":0},{"$f":"IF(O17='Задача 6'!O18,1,0)","v":0},{"$f":"IF(P17='Задача 6'!P18,1,0)","v":0},{"$f":"IF(Q17='Задача 6'!Q18,1,0)","v":0},{"$f":"SUM(C22:Q22)","v":0},{"$f":"IF(R22=15,\"верно\",\"пересчитай\")","v":"пересчитай"},null,null,"Кол-во учащихся, которые имеют средний балл \"3\"",null,{"$f":"IF(T18='Задача 6'!T19,\"верно\",\"пересчитай\")","v":"пересчитай"}]
["Кол-во \"3\" по предмету",null,{"$f":"IF(C18='Задача 6'!C19,1,0)","v":0},{"$f":"IF(D18='Задача 6'!D19,1,0)","v":0},{"$f":"IF(E18='Задача 6'!E19,1,0)","v":0},{"$f":"IF(F18='Задача 6'!F19,1,0)","v":0},{"$f":"IF(G18='Задача 6'!G19,1,0)","v":0},{"$f":"IF(H18='Задача 6'!H19,1,0)","v":0},{"$f":"IF(I18='Задача 6'!I19,1,0)","v":0},{"$f":"IF(J18='Задача 6'!J19,1,0)","v":0},{"$f":"IF(K18='Задача 6'!K19,1,0)","v":0},{"$f":"IF(L18='Задача 6'!L19,1,0)","v":0},{"$f":"IF(M18='Задача 6'!M19,1,0)","v":0},{"$f":"IF(N18='Задача 6'!N19,1,0)","v":0},{"$f":"IF(O18='Задача 6'!O19,1,0)","v":1},{"$f":"IF(P18='Задача 6'!P19,1,0)","v":0},{"$f":"IF(Q18='Задача 6'!Q19,1,0)","v":0},{"$f":"SUM(C23:Q23)","v":1},{"$f":"IF(R23=15,\"верно\",\"пересчитай\")","v":"пересчитай"}]

{"sheet":"резул6","index":17,"n_rows":7,"n_cols":7,"rows_kept":7,"cut":false,"hidden":false,"merged":[[3,0,3,1],[4,0,4,1],[5,0,5,1],[6,0,6,1],[3,4,3,5],[4,4,4,5],[5,4,5,5],[6,4,6,5]]}
["Средний балл ученика","Округленный до целых  средний балл","Округленный до десятых средний балл"]
[{"$f":"REPT('расч зад6'!V16,1)","v":"пересчитай"},{"$f":"REPT('расч зад6'!W16,1)","v":"пересчитай"},{"$f":"REPT('расч зад6'!X16,1)","v":"пересчитай"}]
[]
["Средние баллы по предмету",null,{"$f":"REPT('расч зад6'!S20,1)","v":"пересчитай"},null,"Средний балл учащихся класса",null,{"$f":"REPT('расч зад6'!X19,1)","v":"пересчитай"}]
["Кол-во \"5\" по предмету",null,{"$f":"REPT('расч зад6'!S21,1)","v":"пересчитай"},null,"Кол-во учащихся, которые имеют средний балл \"5\"",null,{"$f":"REPT('расч зад6'!X20,1)","v":"пересчитай"}]
["Кол-во \"4\" по предмету",null,{"$f":"REPT('расч зад6'!S22,1)","v":"пересчитай"},null,"Кол-во учащихся, которые имеют средний балл \"4\"",null,{"$f":"REPT('расч зад6'!X21,1)","v":"пересчитай"}]
["Кол-во \"3\" по предмету",null,{"$f":"REPT('расч зад6'!S23,1)","v":"пересчитай"},null,"Кол-во учащихся, которые имеют средний балл \"3\"",null,{"$f":"REPT('расч зад6'!X22,1)","v":"пересчитай"}]

{"sheet":"Задача 7","index":18,"n_rows":17,"n_cols":14,"rows_kept":17,"cut":false,"hidden":false,"merged":[[16,0,16,2],[15,0,15,2],[10,0,10,2],[11,0,11,2],[12,0,12,2],[13,0,13,2],[14,0,14,2]]}
[]
["Номер","Тип","Наименование","Регистрационный номер","Год спуска на воду","Водоизмещение, т","Запас топлива, масел, т","Кол-во членов экипажа","Автономность, тыс.миль","Кол-во пассажиров","Фамилия капитана","Время рейса, мес","Годовая эксплуатация судна, %","Годовая эксплуатация судна, % (округление до целого)"]
[1,"пассажирское","Константин Симонов","М-37655",1982,9491,"Т:637 М:63",169,3500,663,"Позднеев",1]
[2,"пассажирское","Ильич","М-40175",1973,8613,"Т:764 М:50",150,500,706,"Басилов",0.5]
[3,"пассажирское","Анна Каренина","ДРИ-12392",1980,12138,"Т:465 М:70",215,750,1243,"Трофимов",0.8]
[4,"навалочное","Ленинск","М-41418",1975,42580,"Т:1482 М:46",40,16000,null,"Поляк",2]
[5,"навалочное","Горловка","М-41417",1976,4258,"Т:1482 М:46",40,16000,null,"Величко",4]
[6,"навалочное","Капитан Бехтер","М-42353",1985,47028,"Т:2598 М:174",31,16000,null,"Кораблев",3.4]
[7,"контейнер","Сестрорецк","М-29571",1972,10020,"Т:599 М:20",31,7300,null,"Иванов",2.5]
[8,"контейнер","Алексей  Прокофьев","М-29572",1975,11663,"Т:599 М:20",37,10000,null,"Кочикян",6]
["Самое современное судно"]
["Самое старое судно"]
["Количество членов экипажей всех суднов"]
["Кол-во пассажиров, которые могут совершить круиз"]
["Максимальная длительность рейса, мес"]
["Наименьшее  водоизмещение, т"]
["Наибольшее водоизмещение, т"]

{"sheet":"расч зад7","index":19,"n_rows":16,"n_cols":17,"rows_kept":16,"cut":false,"hidden":true,"merged":[[15,0,15,2],[9,0,9,2],[10,0,10,2],[11,0,11,2],[12,0,12,2],[13,0,13,2],[14,0,14,2]]}
["Номер","Тип","Наименование","Регистрационный номер","Год спуска на воду","Водоизмещение, т","Запас топлива, масел, т","Кол-во членов экипажа","Автономность, тыс.миль","Кол-во пассажиров","Фамилия капитана","Время рейса, мес","Годовая эксплуатация судна, %","Годовая эксплуатация судна, % (округление до целого)",null,"Годовая эксплуатация судна, %","Годовая эксплуатация судна, % (округление до целого)"]
[1,"пассажирское","Константин Симонов","М-37655",1982,9491,"Т:637 М:63",169,3500,663,"Позднеев",1,{"$f":"L2/12*100","v":8.3333333333333321},{"$f":"ROUND(M2,0)","v":8},null,{"$f":"IF(M2='Задача 7'!M3,1,0)","v":0},{"$f":"IF(N2='Задача 7'!N3,1,0)","v":0}]
[2,"пассажирское","Ильич","М-40175",1973,8613,"Т:764 М:50",150,500,706,"Басилов",0.5,{"$f":"L3/12*100","v":4.1666666666666661},{"$f":"ROUND(M3,0)","v":4},null,{"$f":"IF(M3='Задача 7'!M4,1,0)","v":0},{"$f":"IF(N3='Задача 7'!N4,1,0)","v":0}]
[3,"пассажирское","Анна Каренина","ДРИ-12392",1980,12138,"Т:465 М:70",215,750,1243,"Трофимов",0.8,6.666666666666667,7,null,{"$f":"IF(M4='Задача 7'!M5,1,0)","v":0},{"$f":"IF(N4='Задача 7'!N5,1,0)","v":0}]
[4,"навалочное","Ленинск","М-41418",1975,42580,"Т:1482 М:46",40,16000,null,"Поляк",2,16.666666666666664,17,null,{"$f":"IF(M5='Задача 7'!M6,1,0)","v":0},{"$f":"IF(N5='Задача 7'!N6,1,0)","v":0}]
[5,"навалочное","Горловка","М-41417",1976,4258,"Т:1482 М:46",40,16000,null,"Величко",4,33.333333333333329,33,null,{"$f":"IF(M6='Задача 7'!M7,1,0)","v":0},{"$f":"IF(N6='Задача 7'!N7,1,0)","v":0}]
[6,"навалочное","Капитан Бехтер","М-42353",1985,47028,"Т:2598 М:174",31,16000,null,"Кораблев",3.4,28.333333333333332,28,null,{"$f":"IF(M7='Задача 7'!M8,1,0)","v":0},{"$f":"IF(N7='Задача 7'!N8,1,0)","v":0}]
[7,"контейнер","Сестрорецк","М-29571",1972,10020,"Т:599 М:20",31,7300,null,"Иванов",2.5,20.833333333333336,21,null,{"$f":"IF(M8='Задача 7'!M9,1,0)","v":0},{"$f":"IF(N8='Задача 7'!N9,1,0)","v":0}]
[8,"контейнер","Алексей  Прокофьев","М-29572",1975,11663,"Т:599 М:20",37,10000,null,"Кочикян",6,50,50,null,{"$f":"IF(M9='Задача 7'!M10,1,0)","v":0},{"$f":"IF(N9='Задача 7'!N10,1,0)","v":0}]
["Самое современное судно",null,null,{"$f":"MAX(E2:E9)","v":1985},{"$f":"IF(D10='Задача 7'!D11,\"верно\",\"пересчитай\")","v":"пересчитай"},null,null,null,null,null,null,null,null,null,null,{"$f":"SUM(P2:P9)","v":0},{"$f":"SUM(Q2:Q9)","v":0}]
["Самое старое судно",null,null,{"$f":"MIN(E2:E9)","v":1972},{"$f":"IF(D11='Задача 7'!D12,\"верно\",\"пересчитай\")","v":"пересчитай"},null,null,null,null,null,null,null,null,null,null,{"$f":"IF(P10=8,\"верно\",\"пересчитай\")","v":"пересчитай"},{"$f":"IF(Q10=8,\"верно\",\"пересчитай\")","v":"пересчитай"}]
["Количество членов экипажей всех суднов",null,null,{"$f":"SUM(H2:H9)","v":713},{"$f":"IF(D12='Задача 7'!D13,\"верно\",\"пересчитай\")","v":"пересчитай"}]
["Кол-во пассажиров, которые могут совершить круиз",null,null,{"$f":"SUM(J2:J9)","v":2612},{"$f":"IF(D13='Задача 7'!D14,\"верно\",\"пересчитай\")","v":"пересчитай"}]
["Максимальная длительность рейса, мес",null,null,{"$f":"MAX(L2:L9)","v":6},{"$f":"IF(D14='Задача 7'!D15,\"верно\",\"пересчитай\")","v":"пересчитай"}]
["Наименьшее  водоизмещение, т",null,null,{"$f":"MAX(F2:F9)","v":47028},{"$f":"IF(D15='Задача 7'!D16,\"верно\",\"пересчитай\")","v":"пересчитай"}]
["Наибольшее водоизмещение, т",null,null,{"$f":"MIN(F2:F9)","v":4258},{"$f":"IF(D16='Задача 7'!D17,\"верно\",\"пересчитай\")","v":"пересчитай"}]

{"sheet":"резул7","index":20,"n_rows":10,"n_cols":4,"rows_kept":10,"cut":false,"hidden":false,"merged":[[9,0,9,2],[3,0,3,2],[4,0,4,2],[5,0,5,2],[6,0,6,2],[7,0,7,2],[8,0,8,2]]}
["Годовая эксплуатация судна, %","Годовая эксплуатация судна, % (округление до целого)"]
[{"$f":"REPT('расч зад7'!P11,1)","v":"пересчитай"},{"$f":"REPT('расч зад7'!Q11,1)","v":"пересчитай"}]
[]
["Самое современное судно",null,null,{"$f":"REPT('расч зад7'!E10,1)","v":"пересчитай"}]
["Самое старое судно",null,null,{"$f":"REPT('расч зад7'!E11,1)","v":"пересчитай"}]
["Количество членов экипажей всех суднов",null,null,{"$f":"REPT('расч зад7'!E12,1)","v":"пересчитай"}]
["Кол-во пассажиров, которые могут совершить круиз",null,null,{"$f":"REPT('расч зад7'!E13,1)","v":"пересчитай"}]
["Максимальная длительность рейса, мес",null,null,{"$f":"REPT('расч зад7'!E14,1)","v":"пересчитай"}]
["Наименьшее  водоизмещение, т",null,null,{"$f":"REPT('расч зад7'!E15,1)","v":"пересчитай"}]
["Наибольшее водоизмещение, т",null,null,{"$f":"REPT('расч зад7'!E16,1)","v":"пересчитай"}]

{"sheet":"Задача 8","index":21,"n_rows":13,"n_cols":10,"rows_kept":13,"cut":false,"hidden":false,"merged":[[8,7,8,8],[9,7,9,8],[10,7,10,8],[11,7,11,8],[12,7,12,8]]}
[]
["район","стоимость 1 кв.м.,$","площадь квартиры, кв.м.","коэффициент престижности","стоимость квартиры,$","Налог на приватизацию,$","плата агенству по продаже недвжимости,$","стоимость перевода и регистрации недвижимости,$","общая стоимость квартры и услуг,$","общая стоимость квартиры и услуг, руб"]
["Кировский",700,40,1]
["Ленинский",650,55,0.6]
["Московский",1000,35,2.5]
["Фрунзенский",900,60,1.8]
["Петроградский",1000,67,5.4]
["Василеостровский",600,31,3.2]
["Курс в долларах: \n1$=",null,null,null,null,null,null,"минимальная стоимость квартиры, руб"]
[null,null,null,null,null,null,null,"минимальная стоимость квартиры, $"]
[null,null,null,null,null,null,null,"максимальная  стоимость квартиры, $"]
[null,null,null,null,null,null,null,"максимальная  стоимость квартиры, руб"]
[null,null,null,null,null,null,null,"разница минимальной  и максимальной стоимости квартир,$"]

{"sheet":"рас зад8","index":22,"n_rows":12,"n_cols":17,"rows_kept":12,"cut":false,"hidden":true,"merged":[[7,7,7,8],[8,7,8,8],[9,7,9,8],[10,7,10,8],[11,7,11,8]]}
["район","стоимость 1 кв.м.,$","площадь квартиры, кв.м.","коэффициент престижности","стоимость квартиры,$","Налог на приватизацию,$","плата агенству по продаже недвжимости,$","стоимость перевода и регистрации недвижимости,$","общая стоимость квартры и услуг,$","общая стоимость квартиры и услуг, руб",null,"стоимость квартиры,$","Налог на приватизацию,$","плата агенству по продаже недвжимости,$","стоимость перевода и регистрации недвижимости,$","общая стоимость квартры и услуг,$","общая стоимость квартиры и услуг, руб"]
["Кировский",700,40,1,{"$f":"B2*C2*D2","v":28000},{"$f":"0.01*E2","v":280},{"$f":"0.05*E2","v":1400},{"$f":"0.05*E2","v":1400},{"$f":"SUM(E2:H2)","v":31080},{"$f":"I2*$B$8","v":{"$error":"#VALUE!"}},null,{"$f":"IF(E2='Задача 8'!E3,1,0)","v":0},{"$f":"IF(F2='Задача 8'!F3,1,0)","v":0},{"$f":"IF(G2='Задача 8'!G3,1,0)","v":0},{"$f":"IF(H2='Задача 8'!H3,1,0)","v":0},{"$f":"IF(I2='Задача 8'!I3,1,0)","v":0},{"$f":"IF(J2='Задача 8'!J3,1,0)","v":{"$error":"#VALUE!"}}]
["Ленинский",650,55,0.6,21450,214.5,1072.5,1072.5,23809.5,{"$error":"#VALUE!"},null,{"$f":"IF(E3='Задача 8'!E4,1,0)","v":0},{"$f":"IF(F3='Задача 8'!F4,1,0)","v":0},{"$f":"IF(G3='Задача 8'!G4,1,0)","v":0},{"$f":"IF(H3='Задача 8'!H4,1,0)","v":0},{"$f":"IF(I3='Задача 8'!I4,1,0)","v":0},{"$f":"IF(J3='Задача 8'!J4,1,0)","v":{"$error":"#VALUE!"}}]
["Московский",1000,35,2.5,87500,875,4375,4375,97125,{"$error":"#VALUE!"},null,{"$f":"IF(E4='Задача 8'!E5,1,0)","v":0},{"$f":"IF(F4='Задача 8'!F5,1,0)","v":0},{"$f":"IF(G4='Задача 8'!G5,1,0)","v":0},{"$f":"IF(H4='Задача 8'!H5,1,0)","v":0},{"$f":"IF(I4='Задача 8'!I5,1,0)","v":0},{"$f":"IF(J4='Задача 8'!J5,1,0)","v":{"$error":"#VALUE!"}}]
["Фрунзенский",900,60,1.8,97200,972,4860,4860,107892,{"$error":"#VALUE!"},null,{"$f":"IF(E5='Задача 8'!E6,1,0)","v":0},{"$f":"IF(F5='Задача 8'!F6,1,0)","v":0},{"$f":"IF(G5='Задача 8'!G6,1,0)","v":0},{"$f":"IF(H5='Задача 8'!H6,1,0)","v":0},{"$f":"IF(I5='Задача 8'!I6,1,0)","v":0},{"$f":"IF(J5='Задача 8'!J6,1,0)","v":{"$error":"#VALUE!"}}]
["Петроградский",1000,67,5.4,361800,3618,18090,18090,401598,{"$error":"#VALUE!"},null,{"$f":"IF(E6='Задача 8'!E7,1,0)","v":0},{"$f":"IF(F6='Задача 8'!F7,1,0)","v":0},{"$f":"IF(G6='Задача 8'!G7,1,0)","v":0},{"$f":"IF(H6='Задача 8'!H7,1,0)","v":0},{"$f":"IF(I6='Задача 8'!I7,1,0)","v":0},{"$f":"IF(J6='Задача 8'!J7,1,0)","v":{"$error":"#VALUE!"}}]
["Василеостровский",600,31,3.2,59520,595.20000000000005,2976,2976,66067.199999999997,{"$error":"#VALUE!"},null,{"$f":"IF(E7='Задача 8'!E8,1,0)","v":0},{"$f":"IF(F7='Задача 8'!F8,1,0)","v":0},{"$f":"IF(G7='Задача 8'!G8,1,0)","v":0},{"$f":"IF(H7='Задача 8'!H8,1,0)","v":0},{"$f":"IF(I7='Задача 8'!I8,1,0)","v":0},{"$f":"IF(J7='Задача 8'!J8,1,0)","v":{"$error":"#VALUE!"}}]
["Курс в долларах: \n1$=",{"$f":"REPT('Задача 8'!B9,1)","v":""},null,null,null,null,null,"минимальная стоимость квартиры, руб",null,{"$f":"MIN(J2:J7)","v":{"$error":"#VALUE!"}},{"$f":"IF(J8='Задача 8'!J9,\"верно\",\"пересчитай\")","v":{"$error":"#VALUE!"}},{"$f":"SUM(L2:L7)","v":0},0,0,0,0,{"$error":"#VALUE!"}]
[null,null,null,null,null,null,null,"минимальная стоимость квартиры, $",null,{"$f":"MIN(I2:I7)","v":23809.5},{"$f":"IF(J9='Задача 8'!J10,\"верно\",\"пересчитай\")","v":"пересчитай"},{"$f":"IF(L8=6,\"верно\",\"пересчитай\")","v":"пересчитай"},"пересчитай","пересчитай","пересчитай","пересчитай",{"$error":"#VALUE!"}]
[null,null,null,null,null,null,null,"максимальная  стоимость квартиры, $",null,{"$f":"MAX(I2:I7)","v":401598},{"$f":"IF(J10='Задача 8'!J11,\"верно\",\"пересчитай\")","v":"пересчитай"}]
[null,null,null,null,null,null,null,"максимальная  стоимость квартиры, руб",null,{"$f":"MAX(J2:J7)","v":{"$error":"#VALUE!"}},{"$f":"IF(J11='Задача 8'!J12,\"верно\",\"пересчитай\")","v":{"$error":"#VALUE!"}}]
[null,null,null,null,null,null,null,"разница минимальной  и максимальной стоимости квартир,$",null,{"$f":"MAX(I2:I7)-MIN(I2:I7)","v":377788.5},{"$f":"IF(J12='Задача 8'!J13,\"верно\",\"пересчитай\")","v":"пересчитай"}]

{"sheet":"резул8","index":23,"n_rows":8,"n_cols":6,"rows_kept":8,"cut":false,"hidden":false,"merged":[[3,0,3,1],[4,0,4,1],[5,0,5,1],[6,0,6,1],[7,0,7,1]]}
["стоимость квартиры,$","Налог на приватизацию,$","плата агенству по продаже недвжимости,$","стоимость перевода и регистрации недвижимости,$","общая стоимость квартры и услуг,$","общая стоимость квартиры и услуг, руб"]
[{"$f":"REPT('рас зад8'!L9,1)","v":"пересчитай"},{"$f":"REPT('рас зад8'!M9,1)","v":"пересчитай"},{"$f":"REPT('рас зад8'!N9,1)","v":"пересчитай"},{"$f":"REPT('рас зад8'!O9,1)","v":"пересчитай"},{"$f":"REPT('рас зад8'!P9,1)","v":"пересчитай"},{"$f":"REPT('рас зад8'!Q9,1)","v":{"$error":"#VALUE!"}}]
[]
["минимальная стоимость квартиры, руб",null,{"$f":"REPT('рас зад8'!K8,1)","v":{"$error":"#VALUE!"}}]
["минимальная стоимость квартиры, $",null,{"$f":"REPT('рас зад8'!K9,1)","v":"пересчитай"}]
["максимальная  стоимость квартиры, $",null,{"$f":"REPT('рас зад8'!K10,1)","v":"пересчитай"}]
["максимальная  стоимость квартиры, руб",null,{"$f":"REPT('рас зад8'!K11,1)","v":{"$error":"#VALUE!"}}]
["разница минимальной  и максимальной стоимости квартир,$",null,{"$f":"REPT('рас зад8'!K12,1)","v":"пересчитай"}]

{"sheet":"Задача 9","index":24,"n_rows":12,"n_cols":13,"rows_kept":12,"cut":false,"hidden":false,"merged":[[11,6,11,8],[6,6,6,8],[7,6,7,8],[8,6,8,8],[9,6,9,8],[10,6,10,8]]}
[]
["номер автобуса","маршрут автобуса","дата","время отправления,ч, мин","количество остановок","продолжительность остановки, ч","продолжительность все остановок,ч,мин","время прибытия,ч,мин","время в пути,ч,мин","1возможная задержка,мин","фактическое время прибытие автобуса,ч,мин","цена детского билета, руб","цена взрослого билета,руб"]
[67,"ул. Двинская-ст.Балтийская","2003-09-10","08:27:00",10,0.3,null,"09:27:00",null,"00:01:00",null,null,7]
[66,"ул. Двинская-ст.м.Автово","2003-09-10","08:42:00",6,0.2,null,"09:24:00",null,"00:02:00",null,null,5]
[35,"Канарейский ост.-пр.Стачек","2003-09-10","08:01:00",12,0.3,null,"09:01:00",null,"00:03:00",null,null,8]
[22,"ул. Двинская-ул.Синявская","2003-09-10","07:43:00",14,0.9,null,"08:24:00",null,"00:02:00",null,null,5]
[null,null,null,null,null,null,"Минимальная стоимость взрослого билета,руб"]
[null,null,null,null,null,null,"Минимальная стоимость детского билет,рб"]
[null,null,null,null,null,null,"Максимальная стоимость взрослого билета, руб"]
[null,null,null,null,null,null,"Максимальная стоимость детского билета, руб"]
[null,null,null,null,null,null,"Средняя стоимость взрослого билета,руб"]
[null,null,null,null,null,null,"Средняя стоимость детского билета,руб"]

{"sheet":"расч зад9","index":25,"n_rows":11,"n_cols":18,"rows_kept":11,"cut":false,"hidden":true,"merged":[[10,6,10,8],[5,6,5,8],[6,6,6,8],[7,6,7,8],[8,6,8,8],[9,6,9,8]]}
["номер автобуса","маршрут автобуса","дата","время отправления,ч, мин","количество остановок","продолжительность остановки, ч","продолжительность все остановок,ч,мин","время прибытия,ч,мин","время в пути,ч,мин","1возможная задержка,мин","фактическое время прибытие автобуса,ч,мин","цена детского билета, руб","цена взрослого билета,руб",null,"продолжительность все остановок,ч,мин","время в пути,ч,мин","фактическое время прибытие автобуса,ч,мин","цена детского билета, руб"]
[67,"ул. Двинская-ст.Балтийская","2003-09-10","08:27:00",10,0.3,{"$f":"E2*F2","v":3},"09:27:00",{"$f":"H2-D2","v":"01:00:00"},"00:01:00",{"$f":"H2+J2","v":"09:28:00"},{"$f":"0.3*M2","v":2.1},7,null,{"$f":"IF(G2='Задача 9'!G3,1,0)","v":0},{"$f":"IF(I2='Задача 9'!I3,1,0)","v":0},{"$f":"IF(K2='Задача 9'!K3,1,0)","v":0},{"$f":"IF(L2='Задача 9'!L3,1,0)","v":0}]
[66,"ул. Двинская-ст.м.Автово","2003-09-10","08:42:00",6,0.2,{"$f":"E3*F3","v":1.2000000000000002},"09:24:00",{"$f":"H3-D3","v":"00:42:00"},"00:02:00",{"$f":"H3+J3","v":"09:26:00"},{"$f":"0.3*M3","v":1.5},5,null,{"$f":"IF(G3='Задача 9'!G4,1,0)","v":0},{"$f":"IF(I3='Задача 9'!I4,1,0)","v":0},{"$f":"IF(K3='Задача 9'!K4,1,0)","v":0},{"$f":"IF(L3='Задача 9'!L4,1,0)","v":0}]
[35,"Канарейский ост.-пр.Стачек","2003-09-10","08:01:00",12,0.3,{"$f":"E4*F4","v":3.5999999999999996},"09:01:00",{"$f":"H4-D4","v":"01:00:00"},"00:03:00",{"$f":"H4+J4","v":"09:04:00"},{"$f":"0.3*M4","v":2.4},8,null,{"$f":"IF(G4='Задача 9'!G5,1,0)","v":0},{"$f":"IF(I4='Задача 9'!I5,1,0)","v":0},{"$f":"IF(K4='Задача 9'!K5,1,0)","v":0},{"$f":"IF(L4='Задача 9'!L5,1,0)","v":0}]
[22,"ул. Двинская-ул.Синявская","2003-09-10","07:43:00",14,0.9,{"$f":"E5*F5","v":12.6},"08:24:00",{"$f":"H5-D5","v":"00:41:00"},"00:02:00",{"$f":"H5+J5","v":"08:26:00"},{"$f":"0.3*M5","v":1.5},5,null,{"$f":"IF(G5='Задача 9'!G6,1,0)","v":0},{"$f":"IF(I5='Задача 9'!I6,1,0)","v":0},{"$f":"IF(K5='Задача 9'!K6,1,0)","v":0},{"$f":"IF(L5='Задача 9'!L6,1,0)","v":0}]
[null,null,null,null,null,null,"Минимальная стоимость взрослого билета,руб",null,null,{"$f":"MIN(M2:M5)","v":5},{"$f":"IF(J6='Задача 9'!J7,\"верно\",\"пересчитай\")","v":"пересчитай"},null,null,null,{"$f":"SUM(O2:O5)","v":0},{"$f":"SUM(P2:P5)","v":0},{"$f":"SUM(Q2:Q5)","v":0},{"$f":"SUM(R2:R5)","v":0}]
[null,null,null,null,null,null,"Минимальная стоимость детского билет,рб",null,null,{"$f":"MIN(L2:L5)","v":1.5},{"$f":"IF(J7='Задача 9'!J8,\"верно\",\"пересчитай\")","v":"пересчитай"},null,null,null,{"$f":"IF(O6=4,\"верно\",\"пересчитай\")","v":"пересчитай"},{"$f":"IF(P6=4,\"верно\",\"пересчитай\")","v":"пересчитай"},{"$f":"IF(Q6=4,\"верно\",\"пересчитай\")","v":"пересчитай"},{"$f":"IF(R6=4,\"верно\",\"пересчитай\")","v":"пересчитай"}]
[null,null,null,null,null,null,"Максимальная стоимость взрослого билета, руб",null,null,{"$f":"MAX(M2:M5)","v":8},{"$f":"IF(J8='Задача 9'!J9,\"верно\",\"пересчитай\")","v":"пересчитай"}]
[null,null,null,null,null,null,"Максимальная стоимость детского билета, руб",null,null,{"$f":"MAX(L2:L5)","v":2.4},{"$f":"IF(J9='Задача 9'!J10,\"верно\",\"пересчитай\")","v":"пересчитай"}]
[null,null,null,null,null,null,"Средняя стоимость взрослого билета,руб",null,null,{"$f":"AVERAGE(M2:M5)","v":6.25},{"$f":"IF(J10='Задача 9'!J11,\"верно\",\"пересчитай\")","v":"пересчитай"}]
[null,null,null,null,null,null,"Средняя стоимость детского билета,руб",null,null,{"$f":"AVERAGE(L2:L5)","v":1.875},{"$f":"IF(J11='Задача 9'!J12,\"верно\",\"пересчитай\")","v":"пересчитай"}]

{"sheet":"резул9","index":26,"n_rows":10,"n_cols":4,"rows_kept":10,"cut":false,"hidden":false,"merged":[[9,0,9,2],[4,0,4,2],[5,0,5,2],[6,0,6,2],[7,0,7,2],[8,0,8,2]]}
["продолжительность все остановок,ч,мин","время в пути,ч,мин","фактическое время прибытие автобуса,ч,мин","цена детского билета, руб"]
[{"$f":"REPT('расч зад9'!O7,1)","v":"пересчитай"},{"$f":"REPT('расч зад9'!P7,1)","v":"пересчитай"},{"$f":"REPT('расч зад9'!Q7,1)","v":"пересчитай"},{"$f":"REPT('расч зад9'!R7,1)","v":"пересчитай"}]
[]
[]
["Минимальная стоимость взрослого билета,руб",null,null,{"$f":"REPT('расч зад9'!K6,1)","v":"пересчитай"}]
["Минимальная стоимость детского билет,рб",null,null,{"$f":"REPT('расч зад9'!K7,1)","v":"пересчитай"}]
["Максимальная стоимость взрослого билета, руб",null,null,{"$f":"REPT('расч зад9'!K8,1)","v":"пересчитай"}]
["Максимальная стоимость детского билета, руб",null,null,{"$f":"REPT('расч зад9'!K9,1)","v":"пересчитай"}]
["Средняя стоимость взрослого билета,руб",null,null,{"$f":"REPT('расч зад9'!K10,1)","v":"пересчитай"}]
["Средняя стоимость детского билета,руб",null,null,{"$f":"REPT('расч зад9'!K11,1)","v":"пересчитай"}]

{"sheet":"Задача 10","index":27,"n_rows":12,"n_cols":17,"rows_kept":12,"cut":false,"hidden":false,"merged":[]}
[]
["фамилия плательщика","адрес","плата за квадратный метр,руб","метраж квартиры,кв.м.","плата за квартиру","количество проживающих в квартире","холодная вода,руб","отопление,руб","газ,руб","горячая вода,руб","техническое обслуживание,руб","уборка лестничных клеток,руб","капремонт,руб","общая стоимость,руб","коэффициент скидки","оплата со скидкой по льготе,руб","итого к оплате,руб"]
["Иванов И.К.","пр. Стачек",20,60,{"$f":"C3*D3","v":1200},4,null,null,null,null,null,null,null,null,0.5]
["Петров О.П.","пл. Ленина",14,55,770,4,null,null,null,null,null,null,null,null,0]
["Сидоров И.В.","ул. Губина",30,48,1440,3,null,null,null,null,null,null,null,null,0]
["Лукичев С.Н.","пр. Стачек",25,50,1250,3,null,null,null,null,null,null,null,null,0.5]
["Быков К.М.","ул.Садовая",35,42,1470,2,null,null,null,null,null,null,null,null,0.5]
["Зубков К.М.","ул.Замшина",23,58,1334,4,null,null,null,null,null,null,null,null,0]
[]
[]
["вид платежа","холодная вода,руб","отопление,руб","газ,руб","горячая вода,руб","техническое обслуживание,руб","уборка лестничных клеток,руб","капремонт,руб","радио","антенна"]
["действующая ставка,руб",78.06,5.49,9.3000000000000007,88.72,0.51,0.24,1,14,28]

{"sheet":"расч зад10","index":28,"n_rows":22,"n_cols":17,"rows_kept":22,"cut":false,"hidden":true,"merged":[]}
[]
["фамилия плательщика","адрес","плата за квадратный метр,руб","метраж квартиры,кв.м.","плата за квартиру","количество проживающих в квартире","холодная вода,руб","отопление,руб","газ,руб","горячая вода,руб","техническое обслуживание,руб","уборка лестничных клеток,руб","капремонт,руб","общая стоимость,руб","коэффициент скидки","оплата со скидкой по льготе,руб","итого к оплате,руб"]
["Иванов И.К.","пр. Стачек",20,60,{"$f":"C3*D3","v":1200},4,{"$f":"F3*$B$12","v":312.24},{"$f":"D3*$C$12","v":329.40000000000003},{"$f":"F3*$D$12","v":37.200000000000003},{"$f":"F3*$E$12","v":354.88},{"$f":"D3*$F$12","v":30.6},{"$f":"D3*$G$12","v":14.399999999999999},{"$f":"D3*$H$12","v":60},{"$f":"E3+SUM(G3:M3)+$I$12+$J$12","v":2380.7200000000003},0.5,{"$f":"N3*O3","v":1190.3600000000001},{"$f":"IF(O3>0,P3,N3)","v":1190.3600000000001}]
["Петров О.П.","пл. Ленина",14,55,770,4,312.24,301.95,{"$f":"F4*$D$12","v":37.200000000000003},{"$f":"F4*$E$12","v":354.88},{"$f":"D4*$F$12","v":28.05},{"$f":"D4*$G$12","v":13.2},{"$f":"D4*$H$12","v":55},{"$f":"E4+SUM(G4:M4)+$I$12+$J$12","v":1914.5200000000002},0,{"$f":"N4*O4","v":0},{"$f":"IF(O4>0,P4,N4)","v":1914.5200000000002}]
["Сидоров И.В.","ул. Губина",30,48,1440,3,234.18,263.52,27.900000000000002,266.15999999999997,24.48,11.52,48,2357.7600000000002,0,0,2357.7600000000002]
["Лукичев С.Н.","пр. Стачек",25,50,1250,3,234.18,274.5,27.900000000000002,266.15999999999997,25.5,12,50,2182.2399999999998,0.5,1091.1199999999999,1091.1199999999999]
["Быков К.М.","ул.Садовая",35,42,1470,2,156.12,230.58,18.600000000000001,177.44,21.42,10.08,42,2168.2399999999998,0.5,1084.1199999999999,1084.1199999999999]
["Зубков К.М.","ул.Замшина",23,58,1334,4,312.24,318.42,37.200000000000003,354.88,29.580000000000002,13.92,58,2500.2400000000002,0,0,2500.2400000000002]
[]
[]
["вид платежа","холодная вода,руб","отопление,руб","газ,руб","горячая вода,руб","техническое обслуживание,руб","уборка лестничных клеток,руб","капремонт,руб","радио","антенна"]
["действующая ставка,руб",78.06,5.49,9.3000000000000007,88.72,0.51,0.24,1,14,28]
[]
["холодная вода,руб","отопление,руб","газ,руб","горячая вода,руб","техническое обслуживание,руб","уборка лестничных клеток,руб","капремонт,руб","общая стоимость,руб","оплата со скидкой по льготе,руб","итого к оплате,руб"]
[{"$f":"IF(G3='Задача 10'!G3,1,0)","v":0},{"$f":"IF(H3='Задача 10'!H3,1,0)","v":0},{"$f":"IF(I3='Задача 10'!I3,1,0)","v":0},{"$f":"IF(J3='Задача 10'!J3,1,0)","v":0},{"$f":"IF(K3='Задача 10'!K3,1,0)","v":0},{"$f":"IF(L3='Задача 10'!L3,1,0)","v":0},{"$f":"IF(M3='Задача 10'!M3,1,0)","v":0},{"$f":"IF(N3='Задача 10'!N3,1,0)","v":0},{"$f":"IF(P3='Задача 10'!P3,1,0)","v":0},{"$f":"IF(Q3='Задача 10'!Q3,1,0)","v":0}]
[{"$f":"IF(G4='Задача 10'!G4,1,0)","v":0},{"$f":"IF(H4='Задача 10'!H4,1,0)","v":0},{"$f":"IF(I4='Задача 10'!I4,1,0)","v":0},{"$f":"IF(J4='Задача 10'!J4,1,0)","v":0},{"$f":"IF(K4='Задача 10'!K4,1,0)","v":0},{"$f":"IF(L4='Задача 10'!L4,1,0)","v":0},{"$f":"IF(M4='Задача 10'!M4,1,0)","v":0},{"$f":"IF(N4='Задача 10'!N4,1,0)","v":0},{"$f":"IF(P4='Задача 10'!P4,1,0)","v":1},{"$f":"IF(Q4='Задача 10'!Q4,1,0)","v":0}]
[{"$f":"IF(G5='Задача 10'!G5,1,0)","v":0},{"$f":"IF(H5='Задача 10'!H5,1,0)","v":0},{"$f":"IF(I5='Задача 10'!I5,1,0)","v":0},{"$f":"IF(J5='Задача 10'!J5,1,0)","v":0},{"$f":"IF(K5='Задача 10'!K5,1,0)","v":0},{"$f":"IF(L5='Задача 10'!L5,1,0)","v":0},{"$f":"IF(M5='Задача 10'!M5,1,0)","v":0},{"$f":"IF(N5='Задача 10'!N5,1,0)","v":0},{"$f":"IF(P5='Задача 10'!P5,1,0)","v":1},{"$f":"IF(Q5='Задача 10'!Q5,1,0)","v":0}]
[{"$f":"IF(G6='Задача 10'!G6,1,0)","v":0},{"$f":"IF(H6='Задача 10'!H6,1,0)","v":0},{"$f":"IF(I6='Задача 10'!I6,1,0)","v":0},{"$f":"IF(J6='Задача 10'!J6,1,0)","v":0},{"$f":"IF(K6='Задача 10'!K6,1,0)","v":0},{"$f":"IF(L6='Задача 10'!L6,1,0)","v":0},{"$f":"IF(M6='Задача 10'!M6,1,0)","v":0},{"$f":"IF(N6='Задача 10'!N6,1,0)","v":0},{"$f":"IF(P6='Задача 10'!P6,1,0)","v":0},{"$f":"IF(Q6='Задача 10'!Q6,1,0)","v":0}]
[{"$f":"IF(G7='Задача 10'!G7,1,0)","v":0},{"$f":"IF(H7='Задача 10'!H7,1,0)","v":0},{"$f":"IF(I7='Задача 10'!I7,1,0)","v":0},{"$f":"IF(J7='Задача 10'!J7,1,0)","v":0},{"$f":"IF(K7='Задача 10'!K7,1,0)","v":0},{"$f":"IF(L7='Задача 10'!L7,1,0)","v":0},{"$f":"IF(M7='Задача 10'!M7,1,0)","v":0},{"$f":"IF(N7='Задача 10'!N7,1,0)","v":0},{"$f":"IF(P7='Задача 10'!P7,1,0)","v":0},{"$f":"IF(Q7='Задача 10'!Q7,1,0)","v":0}]
[{"$f":"IF(G8='Задача 10'!G8,1,0)","v":0},{"$f":"IF(H8='Задача 10'!H8,1,0)","v":0},{"$f":"IF(I8='Задача 10'!I8,1,0)","v":0},{"$f":"IF(J8='Задача 10'!J8,1,0)","v":0},{"$f":"IF(K8='Задача 10'!K8,1,0)","v":0},{"$f":"IF(L8='Задача 10'!L8,1,0)","v":0},{"$f":"IF(M8='Задача 10'!M8,1,0)","v":0},{"$f":"IF(N8='Задача 10'!N8,1,0)","v":0},{"$f":"IF(P8='Задача 10'!P8,1,0)","v":1},{"$f":"IF(Q8='Задача 10'!Q8,1,0)","v":0}]
[{"$f":"SUM(A15:A20)","v":0},0,0,0,0,0,0,0,3,0]
[{"$f":"IF(A21=6,\"верно\",\"пересчитай\")","v":"пересчитай"},{"$f":"IF(B21=6,\"верно\",\"пересчитай\")","v":"пересчитай"},"пересчитай","пересчитай","пересчитай","пересчитай","пересчитай","пересчитай","пересчитай","пересчитай"]

{"sheet":"резул 10","index":29,"n_rows":2,"n_cols":10,"rows_kept":2,"cut":false,"hidden":false,"merged":[]}
["холодная вода,руб","отопление,руб","газ,руб","горячая вода,руб","техническое обслуживание,руб","уборка лестничных клеток,руб","капремонт,руб","общая стоимость,руб","оплата со скидкой по льготе,руб","итого к оплате,руб"]
[{"$f":"REPT('расч зад10'!A22,1)","v":"пересчитай"},{"$f":"REPT('расч зад10'!B22,1)","v":"пересчитай"},{"$f":"REPT('расч зад10'!C22,1)","v":"пересчитай"},{"$f":"REPT('расч зад10'!D22,1)","v":"пересчитай"},{"$f":"REPT('расч зад10'!E22,1)","v":"пересчитай"},{"$f":"REPT('расч зад10'!F22,1)","v":"пересчитай"},{"$f":"REPT('расч зад10'!G22,1)","v":"пересчитай"},{"$f":"REPT('расч зад10'!H22,1)","v":"пересчитай"},{"$f":"REPT('расч зад10'!I22,1)","v":"пересчитай"},{"$f":"REPT('расч зад10'!J22,1)","v":"пересчитай"}]

{"sheet":"Задача 11","index":30,"n_rows":46,"n_cols":7,"rows_kept":46,"cut":false,"hidden":false,"merged":[[43,0,43,1],[44,0,44,1],[45,0,45,1],[2,0,2,6],[20,0,20,6],[40,0,40,1],[41,0,41,1],[42,0,42,1]]}
[]
["наименование изделия","единица измерения товара","количество","цена за единицу товара,руб","скидка при оптовой закупке,%","стоимость товара,руб","стоимость товара с учетом скидки,руб"]
["Фирма \"Ладога Форест\""]
["брус","куб.м",20,2500,5]
["доска необрезная","куб.м",13,1500,5]
["доска обрезная","куб.м",26,1700,5]
["вагонка","куб.м",6,2100,5]
["штапик","погон.метр",50,140,5]
["плинтус","погон.метр",100,170,5]
["наличник","рулоны",35,180,5]
["рама 600х800мм","шт.",4,150,5]
["рама 1000х1200мм","шт.",6,1900,5]
["рубероид","рулоны",17,70,5]
["фанера 1500х1500 мм","шт.",30,130,5]
["ДВП","кв.м.",87,30.5,5]
["ДСП","кв.м.",56,40.5,5]
["стекло","кв.м.",23,40,5]
["дверь","шт.",2,254.6,5]
["гвозди 100мм","кг",30,40.799999999999997,5]
["гвозди 120 мм","кг",40,50.1,5]
["Фирма \"Строительные материалы\""]
["брус","куб.м",20,2840,7]
["доска необрезная","куб.м",13,1380,7]
["доска обрезная","куб.м",26,1690,7]
["вагонка","куб.м",6,2220,7]
["штапик","погон.метр",50,340,7]
["плинтус","погон.метр",100,120,7]
["наличник","рулоны",35,160,7]
["рама 600х800мм","шт.",4,190,7]
["рама 1000х1200мм","шт.",6,200,7]
["рубероид","рулоны",17,40.700000000000003,7]
["фанера 1500х1500 мм","шт.",30,110.5,7]
["ДВП","кв.м.",87,20.399999999999999,7]
["ДСП","кв.м.",56,50.4,7]
["стекло","кв.м.",23,240,7]
["дверь","шт.",2,310,7]
["гвозди 100мм","кг",30,39,7]
["гвозди 120 мм","кг",40,48,7]
[]
[]
["стоимость товара Фирмы \"Ладога Форест\",руб"]
["стоимость товара Фирмы \"Строительные материалы\",руб"]
["стоимость товара Фирмы \"Ладога Форест\" со скидкой,руб"]
["стоимость товара Фирмы \"Строительные материалы\"  со скидкой,руб"]
["средняя стоимость всех материалов Фирмы \"Ладога Форест\" ,руб"]
["средняя стоимость всех материалов Фирмы \"Строительные материалы\" ,руб"]

{"sheet":"расч зад 11","index":31,"n_rows":46,"n_cols":12,"rows_kept":46,"cut":false,"hidden":true,"merged":[[44,0,44,1],[45,0,45,1],[2,8,2,14],[20,8,20,14],[2,0,2,6],[20,0,20,6],[40,0,40,1],[41,0,41,1],[42,0,42,1],[43,0,43,1]]}
[]
["наименование изделия","единица измерения товара","количество","цена за единицу товара,руб","скидка при оптовой закупке,%","стоимость товара,руб","стоимость товара с учетом скидки,руб",null,"стоимость товара,руб","стоимость товара с учетом скидки,руб"]
["Фирма \"Ладога Форест\"",null,null,null,null,null,null,null,"Фирма \"Ладога Форест\""]
["брус","куб.м",20,2500,5,{"$f":"C4*D4","v":50000},{"$f":"F4-F4*E4/100","v":47500},null,{"$f":"IF(F4='Задача 11'!F4,1,0)","v":0},{"$f":"IF(G4='Задача 11'!G4,1,0)","v":0}]
["доска необрезная","куб.м",13,1500,5,{"$f":"C5*D5","v":19500},{"$f":"F5-F5*E5/100","v":18525},null,{"$f":"IF(F5='Задача 11'!F5,1,0)","v":0},{"$f":"IF(G5='Задача 11'!G5,1,0)","v":0}]
["доска обрезная","куб.м",26,1700,5,44200,41990,null,{"$f":"IF(F6='Задача 11'!F6,1,0)","v":0},{"$f":"IF(G6='Задача 11'!G6,1,0)","v":0}]
["вагонка","куб.м",6,2100,5,12600,11970,null,{"$f":"IF(F7='Задача 11'!F7,1,0)","v":0},{"$f":"IF(G7='Задача 11'!G7,1,0)","v":0}]
["штапик","погон.метр",50,140,5,7000,6650,null,{"$f":"IF(F8='Задача 11'!F8,1,0)","v":0},{"$f":"IF(G8='Задача 11'!G8,1,0)","v":0}]
["плинтус","погон.метр",100,170,5,17000,16150,null,{"$f":"IF(F9='Задача 11'!F9,1,0)","v":0},{"$f":"IF(G9='Задача 11'!G9,1,0)","v":0}]
["наличник","рулоны",35,180,5,6300,5985,null,{"$f":"IF(F10='Задача 11'!F10,1,0)","v":0},{"$f":"IF(G10='Задача 11'!G10,1,0)","v":0}]
["рама 600х800мм","шт.",4,150,5,600,570,null,{"$f":"IF(F11='Задача 11'!F11,1,0)","v":0},{"$f":"IF(G11='Задача 11'!G11,1,0)","v":0}]
["рама 1000х1200мм","шт.",6,1900,5,11400,10830,null,{"$f":"IF(F12='Задача 11'!F12,1,0)","v":0},{"$f":"IF(G12='Задача 11'!G12,1,0)","v":0}]
["рубероид","рулоны",17,70,5,1190,1130.5,null,{"$f":"IF(F13='Задача 11'!F13,1,0)","v":0},{"$f":"IF(G13='Задача 11'!G13,1,0)","v":0}]
["фанера 1500х1500 мм","шт.",30,130,5,3900,3705,null,{"$f":"IF(F14='Задача 11'!F14,1,0)","v":0},{"$f":"IF(G14='Задача 11'!G14,1,0)","v":0}]
["ДВП","кв.м.",87,30.5,5,2653.5,2520.8249999999998,null,{"$f":"IF(F15='Задача 11'!F15,1,0)","v":0},{"$f":"IF(G15='Задача 11'!G15,1,0)","v":0}]
["ДСП","кв.м.",56,40.5,5,2268,2154.6,null,{"$f":"IF(F16='Задача 11'!F16,1,0)","v":0},{"$f":"IF(G16='Задача 11'!G16,1,0)","v":0}]
["стекло","кв.м.",23,40,5,920,874,null,{"$f":"IF(F17='Задача 11'!F17,1,0)","v":0},{"$f":"IF(G17='Задача 11'!G17,1,0)","v":0}]
["дверь","шт.",2,254.6,5,509.2,483.74,null,{"$f":"IF(F18='Задача 11'!F18,1,0)","v":0},{"$f":"IF(G18='Задача 11'!G18,1,0)","v":0}]
["гвозди 100мм","кг",30,40.799999999999997,5,1224,1162.8,null,{"$f":"IF(F19='Задача 11'!F19,1,0)","v":0},{"$f":"IF(G19='Задача 11'!G19,1,0)","v":0},{"$f":"IF(K20=17,\"верно\",\"пересчитай\")","v":"пересчитай"},{"$f":"IF(L20=17,\"верно\",\"пересчитай\")","v":"пересчитай"}]
["гвозди 120 мм","кг",40,50.1,5,{"$f":"C20*D20","v":2004},{"$f":"F20-F20*E20/100","v":1903.8},null,{"$f":"IF(F20='Задача 11'!F20,1,0)","v":0},{"$f":"IF(G20='Задача 11'!G20,1,0)","v":0},{"$f":"SUM(I4:I20)","v":0},{"$f":"SUM(J4:J20)","v":0}]
["Фирма \"Строительные материалы\"",null,null,null,null,null,null,null,"Фирма \"Строительные материалы\""]
["брус","куб.м",20,2840,7,{"$f":"C22*D22","v":56800},{"$f":"F22-F22*E22/100","v":52824},null,{"$f":"IF(F22='Задача 11'!F22,1,0)","v":0},{"$f":"IF(G22='Задача 11'!G22,1,0)","v":0}]
["доска необрезная","куб.м",13,1380,7,{"$f":"C23*D23","v":17940},{"$f":"F23-F23*E23/100","v":16684.2},null,{"$f":"IF(F23='Задача 11'!F23,1,0)","v":0},{"$f":"IF(G23='Задача 11'!G23,1,0)","v":0}]
["доска обрезная","куб.м",26,1690,7,43940,40864.199999999997,null,{"$f":"IF(F24='Задача 11'!F24,1,0)","v":0},{"$f":"IF(G24='Задача 11'!G24,1,0)","v":0}]
["вагонка","куб.м",6,2220,7,13320,12387.6,null,{"$f":"IF(F25='Задача 11'!F25,1,0)","v":0},{"$f":"IF(G25='Задача 11'!G25,1,0)","v":0}]
["штапик","погон.метр",50,340,7,17000,15810,null,{"$f":"IF(F26='Задача 11'!F26,1,0)","v":0},{"$f":"IF(G26='Задача 11'!G26,1,0)","v":0}]
["плинтус","погон.метр",100,120,7,12000,11160,null,{"$f":"IF(F27='Задача 11'!F27,1,0)","v":0},{"$f":"IF(G27='Задача 11'!G27,1,0)","v":0}]
["наличник","рулоны",35,160,7,5600,5208,null,{"$f":"IF(F28='Задача 11'!F28,1,0)","v":0},{"$f":"IF(G28='Задача 11'!G28,1,0)","v":0}]
["рама 600х800мм","шт.",4,190,7,760,706.8,null,{"$f":"IF(F29='Задача 11'!F29,1,0)","v":0},{"$f":"IF(G29='Задача 11'!G29,1,0)","v":0}]
["рама 1000х1200мм","шт.",6,200,7,1200,1116,null,{"$f":"IF(F30='Задача 11'!F30,1,0)","v":0},{"$f":"IF(G30='Задача 11'!G30,1,0)","v":0}]
["рубероид","рулоны",17,40.700000000000003,7,691.90000000000009,643.4670000000001,null,{"$f":"IF(F31='Задача 11'!F31,1,0)","v":0},{"$f":"IF(G31='Задача 11'!G31,1,0)","v":0}]
["фанера 1500х1500 мм","шт.",30,110.5,7,3315,3082.95,null,{"$f":"IF(F32='Задача 11'!F32,1,0)","v":0},{"$f":"IF(G32='Задача 11'!G32,1,0)","v":0}]
["ДВП","кв.м.",87,20.399999999999999,7,1774.8,1650.5639999999999,null,{"$f":"IF(F33='Задача 11'!F33,1,0)","v":0},{"$f":"IF(G33='Задача 11'!G33,1,0)","v":0}]
["ДСП","кв.м.",56,50.4,7,2822.4,2624.8320000000003,null,{"$f":"IF(F34='Задача 11'!F34,1,0)","v":0},{"$f":"IF(G34='Задача 11'!G34,1,0)","v":0}]
["стекло","кв.м.",23,240,7,5520,5133.6000000000004,null,{"$f":"IF(F35='Задача 11'!F35,1,0)","v":0},{"$f":"IF(G35='Задача 11'!G35,1,0)","v":0}]
["дверь","шт.",2,310,7,620,576.6,null,{"$f":"IF(F36='Задача 11'!F36,1,0)","v":0},{"$f":"IF(G36='Задача 11'!G36,1,0)","v":0}]
["гвозди 100мм","кг",30,39,7,1170,1088.0999999999999,null,{"$f":"IF(F37='Задача 11'!F37,1,0)","v":0},{"$f":"IF(G37='Задача 11'!G37,1,0)","v":0},{"$f":"IF(K38=17,\"верно\",\"пересчитай\")","v":"пересчитай"},{"$f":"IF(L38=17,\"верно\",\"пересчитай\")","v":"пересчитай"}]
["гвозди 120 мм","кг",40,48,7,1920,1785.6,null,{"$f":"IF(F38='Задача 11'!F38,1,0)","v":0},{"$f":"IF(G38='Задача 11'!G38,1,0)","v":0},{"$f":"SUM(I22:I38)","v":0},{"$f":"SUM(J22:J38)","v":0}]
[]
[]
["стоимость товара Фирмы \"Ладога Форест\",руб",null,{"$f":"SUM(F4:F20)","v":183268.7},{"$f":"IF(C41='Задача 11'!C41,\"верно\",\"пересчитай\")","v":"пересчитай"}]
["стоимость товара Фирмы \"Строительные материалы\",руб",null,{"$f":"SUM(F22:F38)","v":186394.09999999998},{"$f":"IF(C42='Задача 11'!C42,\"верно\",\"пересчитай\")","v":"пересчитай"}]
["стоимость товара Фирмы \"Ладога Форест\" со скидкой,руб",null,{"$f":"SUM(G4:G20)","v":174105.26499999998},{"$f":"IF(C43='Задача 11'!C43,\"верно\",\"пересчитай\")","v":"пересчитай"}]
["стоимость товара Фирмы \"Строительные материалы\"  со скидкой,руб",null,{"$f":"SUM(G22:G38)","v":173346.51300000004},{"$f":"IF(C44='Задача 11'!C44,\"верно\",\"пересчитай\")","v":"пересчитай"}]
["средняя стоимость всех материалов Фирмы \"Ладога Форест\" ,руб",null,{"$f":"AVERAGE(F4:F20)","v":10780.511764705883},{"$f":"IF(C45='Задача 11'!C45,\"верно\",\"пересчитай\")","v":"пересчитай"}]
["средняя стоимость всех материалов Фирмы \"Строительные материалы\" ,руб",null,{"$f":"AVERAGE(F22:F38)","v":10964.35882352941},{"$f":"IF(C46='Задача 11'!C46,\"верно\",\"пересчитай\")","v":"пересчитай"}]

{"sheet":"резул 11","index":32,"n_rows":6,"n_cols":14,"rows_kept":6,"cut":false,"hidden":false,"merged":[[1,0,1,6],[3,0,3,6],[4,9,4,12],[5,9,5,12],[0,9,0,12],[1,9,1,12],[2,9,2,12],[3,9,3,12]]}
["стоимость товара,руб","стоимость товара с учетом скидки,руб",null,null,null,null,null,null,null,"стоимость товара Фирмы \"Ладога Форест\",руб",null,null,null,{"$f":"REPT('расч зад 11'!D41,1)","v":"пересчитай"}]
["Фирма \"Ладога Форест\"",null,null,null,null,null,null,null,null,"стоимость товара Фирмы \"Строительные материалы\",руб",null,null,null,{"$f":"REPT('расч зад 11'!D42,1)","v":"пересчитай"}]
[{"$f":"REPT('расч зад 11'!K19,1)","v":"пересчитай"},{"$f":"REPT('расч зад 11'!L19,1)","v":"пересчитай"},null,null,null,null,null,null,null,"стоимость товара Фирмы \"Ладога Форест\" со скидкой,руб",null,null,null,{"$f":"REPT('расч зад 11'!D43,1)","v":"пересчитай"}]
["Фирма \"Строительные материалы\"",null,null,null,null,null,null,null,null,"стоимость товара Фирмы \"Строительные материалы\"  со скидкой,руб",null,null,null,{"$f":"REPT('расч зад 11'!D44,1)","v":"пересчитай"}]
[{"$f":"REPT('расч зад 11'!K37,1)","v":"пересчитай"},{"$f":"REPT('расч зад 11'!L37,1)","v":"пересчитай"},null,null,null,null,null,null,null,"средняя стоимость всех материалов Фирмы \"Ладога Форест\" ,руб",null,null,null,{"$f":"REPT('расч зад 11'!D45,1)","v":"пересчитай"}]
[null,null,null,null,null,null,null,null,null,"средняя стоимость всех материалов Фирмы \"Строительные материалы\" ,руб",null,null,null,{"$f":"REPT('расч зад 11'!D46,1)","v":"пересчитай"}]

{"sheet":"Лист5","index":33,"n_rows":0,"n_cols":0,"rows_kept":0,"cut":false,"hidden":false,"merged":[]}